BEGIN:VCALENDAR
VERSION:2.0
PRODID:-//ChamberMaster//Event Calendar 2.0//EN
METHOD:PUBLISH
X-PUBLISHED-TTL:P3D
REFRESH-INTERVAL:P3D
CALSCALE:GREGORIAN
BEGIN:VEVENT
DTSTART:20130518T020000Z
DTEND:20130518T020000Z
X-MICROSOFT-CDO-ALLDAYEVENT:FALSE
SUMMARY:Youty Philharmonic Orchestra Concert "Music for all Seasons"
DESCRIPTION:Youth Philharmonic Orchestra "Music for All Seasons" Concert\, performed by its award-winning Soloists Ensemble\, under the direction of Maestro Alyze Dreiling.\n\n\n	PROGRAM\n\n	Vaughan Williams - Five Variants of Dives and Lazarus\n\n	Handel/Casadesus Viola Concerto in b minor\n\n	Tyler Salvato - Viola\n\n	Cesar Aviles - Viejos Tiempos - US Premiere\n\n	Mendelssohn - Concerto for Violin and Piano in d minor\n\n	Adam Davis & David Phan\n\n	Piazolla - Invierno (Winter) Porte o from Las Cuatro Estaciones Porte as\n\n	Alethia Espinal\n\n	Shostakovich - Piano Concerto No. 2 in F Major\, Op 102\n\n	Lauren Kim\n\n	Philip Glass - Violin Concerto No. 1 "The American Four Seasons"\n\n	(U. S. Premiere by a youth orchestra)\n\n	Harold Reeves
X-ALT-DESC;FMTTYPE=text/html:Youth Philharmonic Orchestra &quot\;Music for All Seasons&quot\; Concert\, performed by its award-winning Soloists Ensemble\, under the direction of Maestro Alyze Dreiling.<br />\n<div style="text-align: center\;">\n	PROGRAM<br />\n	Vaughan Williams - Five Variants of Dives and Lazarus<br />\n	Handel/Casadesus Viola Concerto in b minor<br />\n	<strong>Tyler Salvato - Viola</strong><br />\n	Cesar Aviles - Viejos Tiempos - US Premiere<br />\n	Mendelssohn - Concerto for Violin and Piano in d minor<br />\n	<strong>Adam Davis &amp\; David Phan</strong><br />\n	Piazolla - Invierno (Winter) Porte&ntilde\;o from Las Cuatro Estaciones Porte&ntilde\;as<br />\n	<strong>Alethia Espinal</strong><br />\n	Shostakovich - Piano Concerto No. 2 in F Major\, Op 102<br />\n	<strong>Lauren Kim</strong><br />\n	Philip Glass - Violin Concerto No. 1 &quot\;The American Four Seasons&quot\;<br />\n	(U. S. Premiere by a youth orchestra)<br />\n	<strong>Harold Reeves</strong></div>\n
LOCATION:Rancho Bernardo Community Presbyterian Church
UID:e.784.2881
SEQUENCE:3
DTSTAMP:20260421T211206Z
URL:https://chamber.sdbusinesschamber.com/events/details/youty-philharmonic-orchestra-concert-music-for-all-seasons-05-17-2013-2881
END:VEVENT

END:VCALENDAR
