BEGIN:VCALENDAR
VERSION:2.0
PRODID:-//ChamberMaster//Event Calendar 2.0//EN
METHOD:PUBLISH
X-PUBLISHED-TTL:P3D
REFRESH-INTERVAL:P3D
CALSCALE:GREGORIAN
BEGIN:VEVENT
DTSTART:20111022T180000Z
DTEND:20111022T230000Z
X-MICROSOFT-CDO-ALLDAYEVENT:FALSE
SUMMARY:"World of Pure Imagination" - PUSD Foundation Fundraiser
DESCRIPTION:Bring the whole family to enjoy a "Wonderland of Treats\, Eats & Drinks\, an exciting adventure the beautiful setting of the Bernardo Winery.  There's something for everyone\, including:\n\n	\n		Chocolatiers\, Dessert Specialists\n	\n		Unique foods & Tastemakers\n	\n		Relaxation Spa & Holistic Services\n	\n		Silent Auction & Raffle Drawings\n	\n		Special Musical Guests\n	\n		Activities for Children of ALL ages\n	\n		Face-Painting\, Balloon Arts & much more...!\n\nProceeds benefit the Poway Unified School District.
X-ALT-DESC;FMTTYPE=text/html:Bring the whole family to enjoy a &quot\;Wonderland of Treats\, Eats &amp\; Drinks\, an exciting adventure the beautiful setting of the Bernardo Winery.&nbsp\; There&#39\;s something for everyone\, including:\n<ul>\n	<li>\n		Chocolatiers\, Dessert Specialists</li>\n	<li>\n		Unique foods &amp\; Tastemakers</li>\n	<li>\n		Relaxation Spa &amp\; Holistic Services</li>\n	<li>\n		Silent Auction &amp\; Raffle Drawings</li>\n	<li>\n		Special Musical Guests</li>\n	<li>\n		Activities for Children of ALL ages</li>\n	<li>\n		Face-Painting\, Balloon Arts &amp\; much more...!</li>\n</ul>\nProceeds benefit the Poway Unified School District.&nbsp\; 
LOCATION:Vito's Park at Bernardo Winery 13330 Paseo Del Verano Norte San Diego\, CA 92128
UID:e.784.2453
SEQUENCE:3
DTSTAMP:20260423T013901Z
URL:https://chamber.sdbusinesschamber.com/events/details/world-of-pure-imagination-pusd-foundation-fundraiser-10-22-2011-2453
END:VEVENT

END:VCALENDAR
