BEGIN:VCALENDAR
VERSION:2.0
PRODID:-//ChamberMaster//Event Calendar 2.0//EN
METHOD:PUBLISH
X-PUBLISHED-TTL:P3D
REFRESH-INTERVAL:P3D
CALSCALE:GREGORIAN
BEGIN:VEVENT
DTSTART:20110608T183000Z
DTEND:20110608T200000Z
X-MICROSOFT-CDO-ALLDAYEVENT:FALSE
SUMMARY:Worksite Wellness Workshop - Increasing Productivity & Decreasing Absenteeism
DESCRIPTION:The San Diego North Chamber Health Committee is hosting a FREE Workplace Wellness Luncheon on June 8th at Community Health Improvement Partners in Kearny Mesa.  This informative workshop will teach business owners the importance of providing and encouraging a culture of health for their employees.  Benefits include:\n\n	\n		Better Work Environment\n	\n		Lower Absenteeism\n	\n		Lower Health Costs\n\n\n	Dr. Wooten from the County Office of Health and Diana Bishop of Kaiser Permanente will provide quick\, easy and affordable solutions\, making it easy for local employers to get started.\n\n	\n\n	Each attendee will receive lunch and a FREE Best Wellness Practices book\, compliments of Ashford University.\n\n	\n\n	Speakers:\n\n	Dr. Wooten\, San Diego Department of Health\n\n	Diana Bishop\, Kaiser Permanente
X-ALT-DESC;FMTTYPE=text/html:<p align="left" style="text-align: left\; margin-top: 0px\; margin-bottom: 0px\; font-size: 10pt">\n	The San Diego North Chamber Health Committee is hosting a&nbsp\;FREE Workplace Wellness Luncheon on June 8th at Community Health&nbsp\;Improvement Partners in Kearny Mesa.&nbsp\; This informative&nbsp\;workshop will&nbsp\;teach business owners the importance of providing and encouraging a culture of health for&nbsp\;their employees.&nbsp\; Benefits include:</p>\n<ul>\n	<li align="left" style="text-align: left\; margin-top: 0px\; margin-bottom: 0px\; font-size: 10pt">\n		Better Work Environment</li>\n	<li align="left" style="text-align: left\; margin-top: 0px\; margin-bottom: 0px\; font-size: 10pt">\n		Lower Absenteeism</li>\n	<li align="left" style="text-align: left\; margin-top: 0px\; margin-bottom: 0px\; font-size: 10pt">\n		Lower Health Costs</li>\n</ul>\n<p align="left" style="text-align: left\; margin-top: 0px\; margin-bottom: 0px\; font-size: 10pt">\n	Dr. Wooten from the County Office of Health and Diana Bishop of Kaiser Permanente will&nbsp\;provide quick\, easy and affordable solutions\, making it easy for local employers to get started.<br />\n	<br />\n	Each&nbsp\;attendee will receive lunch and a FREE<em> Best Wellness Practices </em>book\,&nbsp\;compliments of Ashford&nbsp\;University.<br />\n	<br />\n	<strong>Speakers:</strong></p>\n<div align="left" style="text-align: left\; font-size: 10pt">\n	Dr. Wooten\, San Diego Department of Health<br />\n	Diana Bishop\, Kaiser Permanente</div>\n
LOCATION:A Project of Community Health Improvement Partners 9370 Chesapeake Drive\, Suite 220 San Diego\, CA 92123
UID:e.784.2297
SEQUENCE:3
DTSTAMP:20260423T070433Z
URL:https://chamber.sdbusinesschamber.com/events/details/worksite-wellness-workshop-increasing-productivity-decreasing-absenteeism-06-08-2011-2297
END:VEVENT

END:VCALENDAR
