BEGIN:VCALENDAR
VERSION:2.0
PRODID:-//ChamberMaster//Event Calendar 2.0//EN
METHOD:PUBLISH
X-PUBLISHED-TTL:P3D
REFRESH-INTERVAL:P3D
CALSCALE:GREGORIAN
BEGIN:VEVENT
DTSTART:20130606T150000Z
DTEND:20130606T160000Z
X-MICROSOFT-CDO-ALLDAYEVENT:FALSE
SUMMARY:Workforce Development & Education Subcommittee Meeting
DESCRIPTION:
X-ALT-DESC;FMTTYPE=text/html:
LOCATION:SDNCC 10875 Rancho Bernardo Rd. Suite 104 San Diego\, CA 92127
UID:e.784.2797
SEQUENCE:3
DTSTAMP:20260421T191510Z
URL:https://chamber.sdbusinesschamber.com/events/details/workforce-development-education-subcommittee-meeting-06-06-2013-2797
END:VEVENT

END:VCALENDAR
