BEGIN:VCALENDAR
VERSION:2.0
PRODID:-//ChamberMaster//Event Calendar 2.0//EN
METHOD:PUBLISH
X-PUBLISHED-TTL:P3D
REFRESH-INTERVAL:P3D
CALSCALE:GREGORIAN
BEGIN:VEVENT
DTSTART:20210224T160000Z
DTEND:20210224T170000Z
X-MICROSOFT-CDO-ALLDAYEVENT:FALSE
SUMMARY:Women's Week Strategy Team Meeting
DESCRIPTION:This meeting is for Strategy Team Members only
X-ALT-DESC;FMTTYPE=text/html:This meeting is for Strategy Team Members only
LOCATION:
UID:e.784.27234
SEQUENCE:3
DTSTAMP:20260425T142027Z
URL:https://chamber.sdbusinesschamber.com/events/details/women-s-week-strategy-team-meeting-02-24-2021-27234
END:VEVENT

END:VCALENDAR
