BEGIN:VCALENDAR
VERSION:2.0
PRODID:-//ChamberMaster//Event Calendar 2.0//EN
METHOD:PUBLISH
X-PUBLISHED-TTL:P3D
REFRESH-INTERVAL:P3D
CALSCALE:GREGORIAN
BEGIN:VEVENT
DTSTART:20091028T070000Z
DTEND:20091028T070000Z
X-MICROSOFT-CDO-ALLDAYEVENT:FALSE
SUMMARY:Women's Executive Forum with Rafael Cabrera
DESCRIPTION:
X-ALT-DESC;FMTTYPE=text/html:
LOCATION:Courtyard by Marriott San Diego/Rancho Bernardo
UID:e.784.864
SEQUENCE:3
DTSTAMP:20260424T115629Z
URL:https://chamber.sdbusinesschamber.com/events/details/women-s-executive-forum-with-rafael-cabrera-10-28-2009-864
END:VEVENT

END:VCALENDAR
