BEGIN:VCALENDAR
VERSION:2.0
PRODID:-//ChamberMaster//Event Calendar 2.0//EN
METHOD:PUBLISH
X-PUBLISHED-TTL:P3D
REFRESH-INTERVAL:P3D
CALSCALE:GREGORIAN
BEGIN:VEVENT
DTSTART:20090722T070000Z
DTEND:20090722T070000Z
X-MICROSOFT-CDO-ALLDAYEVENT:FALSE
SUMMARY:Women's Executive Forum (formerly Wednesday Roundtable)
DESCRIPTION:
X-ALT-DESC;FMTTYPE=text/html:
LOCATION:Courtyard by Marriott San Diego/Rancho Bernardo
UID:e.784.844
SEQUENCE:3
DTSTAMP:20260424T155002Z
URL:https://chamber.sdbusinesschamber.com/events/details/women-s-executive-forum-formerly-wednesday-roundtable-07-22-2009-844
END:VEVENT

END:VCALENDAR
