BEGIN:VCALENDAR
VERSION:2.0
PRODID:-//ChamberMaster//Event Calendar 2.0//EN
METHOD:PUBLISH
X-PUBLISHED-TTL:P3D
REFRESH-INTERVAL:P3D
CALSCALE:GREGORIAN
BEGIN:VEVENT
DTSTART:20100728T143000Z
DTEND:20100728T160000Z
X-MICROSOFT-CDO-ALLDAYEVENT:FALSE
SUMMARY:Women's Executive Forum - Entrepreneurial Ways to Energize Yourself & Your Team
DESCRIPTION:July Women's Executive Forum\n  The San Diego North Chamber of Commerce is please to  host Lynelle Lynch\, Owner of Bellus Academy and Business Achievement  Award Winner at the July Women's Executive Forum. Lynelle Lynch sets a shining example for women owned businesses. After  taking over the company in 2005\,she completely revolutionized her business and  the results have  been exceptional. Lynelle Lynch brings style and class to her business and gives insight  to others on how to deal with stress and keeping your business healthy! -  Stress - What it does to your employees\n   -  What to eat and why - Helpful wellness hints\n   -  Wellness tips for the professional\n   -  The TOP 10 reasons to have a Corporate Wellness program \n   -  Elements of a successful Corporate Wellness Program
X-ALT-DESC;FMTTYPE=text/html:<div style="text-align: center\;"><strong>July Women&rsquo\;s Executive Forum<br /> </strong></div><div>&nbsp\;</div><div>The San Diego North Chamber of Commerce is please to  host Lynelle Lynch\, Owner of Bellus Academy and Business Achievement  Award Winner at the July Women&rsquo\;s Executive Forum.</div><div>&nbsp\;</div><div>Lynelle Lynch sets a shining example for women owned businesses. After  taking over the company in 2005\,she completely revolutionized her business and&nbsp\; the results have  been exceptional.</div><div>&nbsp\;</div><div>Lynelle Lynch brings style and class to her business and gives insight  to others on how to deal with stress and keeping your business healthy!</div><div>&nbsp\;</div><div style="text-align: left\;">-&nbsp\; Stress - What it does to your employees<br />   -&nbsp\; What to eat and why - Helpful wellness hints<br />   -&nbsp\; Wellness tips for the professional<br />   -&nbsp\; The TOP 10 reasons to have a Corporate Wellness program <br />   -&nbsp\; Elements of a successful Corporate Wellness Program<br />   </div>
LOCATION:Bellus Academy 13266 Poway Road Poway\, CA 92064-4633
UID:e.784.1757
SEQUENCE:3
DTSTAMP:20260423T225227Z
URL:https://chamber.sdbusinesschamber.com/events/details/women-s-executive-forum-entrepreneurial-ways-to-energize-yourself-your-team-07-28-2010-1757
END:VEVENT

END:VCALENDAR
