BEGIN:VCALENDAR
VERSION:2.0
PRODID:-//ChamberMaster//Event Calendar 2.0//EN
METHOD:PUBLISH
X-PUBLISHED-TTL:P3D
REFRESH-INTERVAL:P3D
CALSCALE:GREGORIAN
BEGIN:VEVENT
DTSTART:20120327T003000Z
DTEND:20120327T023000Z
X-MICROSOFT-CDO-ALLDAYEVENT:FALSE
SUMMARY:Women of Influence
DESCRIPTION:San Diego Women's Week opening night networking event. Limited to the first 200 registrants.\n\n\n\nSpeakers Include:\n\nIngrid Croce\n\nEllie Kay\n\nSara Lewis
X-ALT-DESC;FMTTYPE=text/html:San Diego Women&#39\;s Week opening night networking event. Limited to the first 200 registrants.<br />\n<br />\nSpeakers Include:<br />\n<a href="http://sdwomensweek.com/speakers/icroce.html">Ingrid Croce</a><br />\n<a href="http://sdwomensweek.com/speakers/ekay.html">Ellie Kay</a><br />\nSara Lewis<br />\n
LOCATION:Hewlett Packard 16399 W Bernardo Drive San Diego CA 92127
UID:e.784.2597
SEQUENCE:3
DTSTAMP:20260422T191233Z
URL:https://chamber.sdbusinesschamber.com/events/details/women-of-influence-03-26-2012-2597
END:VEVENT

END:VCALENDAR
