BEGIN:VCALENDAR
VERSION:2.0
PRODID:-//ChamberMaster//Event Calendar 2.0//EN
METHOD:PUBLISH
X-PUBLISHED-TTL:P3D
REFRESH-INTERVAL:P3D
CALSCALE:GREGORIAN
BEGIN:VEVENT
DTSTART:20131121T020000Z
DTEND:20131121T040000Z
X-MICROSOFT-CDO-ALLDAYEVENT:FALSE
SUMMARY:Wine\, Women & Wealth ~ RB
DESCRIPTION:We are a group of amazing women that love wine and supporting each other in business while learning to have a great relationship with money. We are building a community of women who desire to take charge of their financial future\, expand their knowledge\, and build their confidence regarding money and wealth. Amazing things happen when women team up ? especially when you add a little wine to the mix.  Please join us as we continue our journey toward financial freedom!
X-ALT-DESC;FMTTYPE=text/html:We are a group of amazing women that love wine and supporting each other in business while learning to have a great relationship with money. We are building a community of women who desire to take charge of their financial future\, expand their knowledge\, and build their confidence regarding money and wealth. Amazing things happen when women team up ? especially when you add a little wine to the mix.&nbsp\; Please join us as we continue our journey toward financial freedom!
LOCATION:Bernardo Winery 13330 Paseo Del Verano Norte San Diego\, CA 92128
UID:e.784.2987
SEQUENCE:3
DTSTAMP:20260421T113349Z
URL:https://chamber.sdbusinesschamber.com/events/details/wine-women-wealth-rb-11-20-2013-2987
END:VEVENT

END:VCALENDAR
