BEGIN:VCALENDAR
VERSION:2.0
PRODID:-//ChamberMaster//Event Calendar 2.0//EN
METHOD:PUBLISH
X-PUBLISHED-TTL:P3D
REFRESH-INTERVAL:P3D
CALSCALE:GREGORIAN
BEGIN:VEVENT
DTSTART:20131108T180000Z
DTEND:20131109T000000Z
X-MICROSOFT-CDO-ALLDAYEVENT:FALSE
SUMMARY:Wine\, Women & Wealth EXPO
DESCRIPTION:Five Rings Financial in conjunction with their Women?s Opportunities for Wealth Network (WOW)  and Wine\, Women & Wealth invites you to attend the Second Annual Wine\, Women & Wealth Expo. Be A Sponsor\, Be An Exhibitor\, Donate Raffle Items.. or Be A Guest! This day long expo was created to inspire and empower women in San Diego County. In partnership with Voices of Women (VOW) the goal is to bring like minded women together to enjoy a day of networking\, education\, fashion\, fun\, friendship and philanthropy. In 2012\, the First Annual Wine\, Women & Wealth Expo drew over 30 Exhibitors\, 15 Sponsors and 135 Attendees! We were able to donate over $6\,000 to Voices of women! For the Second Annual Expo we plan to double our numbers! We plan to have 300 women in attendance\, 35 Exhibitor Spaces available and we want to raise $12\,000 for Voices of Women! Please Join us!
X-ALT-DESC;FMTTYPE=text/html:Five Rings Financial in conjunction with their Women?s Opportunities for Wealth Network (WOW) &nbsp\;and Wine\, Women &amp\; Wealth invites you to attend the Second Annual Wine\, Women &amp\; Wealth Expo. Be A Sponsor\, Be An Exhibitor\, Donate Raffle Items.. or Be A Guest! This day long expo was created to inspire and empower women in San Diego County. In partnership with Voices of Women (VOW) the goal is to bring like minded women together to enjoy a day of networking\, education\, fashion\, fun\, friendship and philanthropy. In 2012\, the First Annual Wine\, Women &amp\; Wealth Expo drew over 30 Exhibitors\, 15 Sponsors and 135 Attendees! We were able to donate over $6\,000 to Voices of women! For the Second Annual Expo we plan to double our numbers! We plan to have 300 women in attendance\, 35 Exhibitor Spaces available and we want to raise $12\,000 for Voices of Women! Please Join us! 
LOCATION:Del Mar Hilton 15575 Jimmy Durante Boulevard Del Mar\, CA 92014
UID:e.784.2986
SEQUENCE:3
DTSTAMP:20260421T113457Z
URL:https://chamber.sdbusinesschamber.com/events/details/wine-women-wealth-expo-11-08-2013-2986
END:VEVENT

END:VCALENDAR
