BEGIN:VCALENDAR
VERSION:2.0
PRODID:-//ChamberMaster//Event Calendar 2.0//EN
METHOD:PUBLISH
X-PUBLISHED-TTL:P3D
REFRESH-INTERVAL:P3D
CALSCALE:GREGORIAN
BEGIN:VEVENT
DTSTART:20201203T020000Z
DTEND:20201203T033000Z
X-MICROSOFT-CDO-ALLDAYEVENT:FALSE
SUMMARY:Wine\, Women & Wealth
DESCRIPTION:Wine\, Women & Wealth is a Complimentary Event!\n\nWe have a remarkable opportunity for you to network with other women in your area\, share laughs over good wine and learn about the information you need to make better financial decisions. \n\n\n\nWe are building a community of amazing women that love supporting each other in business while learning to have a great relationship with money. Women who desire to take charge of their financial future\, expand their knowledge\, and build their confidence regarding money and wealth. \n\n  \n\nWhether you're at the end of your rope or the top of the corporate ladder\, there is always more to learn about how you can make your money work for you.\n\n \n\nInvite a girlfriend and be a part of our growing community of women who are committed to educating and empowering ourselves about money. \n\nWishes for Success\,\n\nNicole J Aspenson\n\nAnchor Financial\,\n\nA Five Rings Financial Agency\n\nnicole@fiveringsfinancial.com
X-ALT-DESC;FMTTYPE=text/html:<p><span style="font-size:14px">Wine\, Women &amp\; Wealth is a Complimentary&nbsp\;Event!</span></p>\n\n<p><span style="font-size:14px"><span style="font-family:arial\,helvetica\,sans-serif">We have a remarkable opportunity for you to network with other women in your area\, share laughs over good wine and learn about the information you need to make better financial decisions.&nbsp\;<br />\n<br />\nWe are building a community of amazing women that love supporting each other in business while learning to have a great relationship with money. Women who desire to take charge of their financial future\, expand their knowledge\, and build their confidence regarding money and wealth.&nbsp\;<br />\n&nbsp\;&nbsp\;<br />\n<span style="color:#262626">Whether you&#39\;re at the end of your rope or the top of the corporate ladder\, there is always more to learn about how you can make your money work for you.</span><br />\n&nbsp\;<br />\n<span style="color:#262626">Invite a girlfriend and be a part of our growing community of women who are committed to educating and empowering ourselves about money.&nbsp\;</span></span></span></p>\n\n<p><span style="font-size:14px"><span style="font-family:arial\,helvetica\,sans-serif">Wishes for Success\,<br />\nNicole J Aspenson<br />\nAnchor Financial\,<br />\nA Five Rings Financial Agency<br />\n<u><a href="mailto:nicole@fiveringsfinancial.com">nicole@fiveringsfinancial.com</a></u></span></span><br />\n&nbsp\;</p>\n
LOCATION:For more information click on the RSVP link.
UID:e.784.26550
SEQUENCE:3
DTSTAMP:20260425T170101Z
URL:https://chamber.sdbusinesschamber.com/events/details/wine-women-wealth-12-02-2020-26550
END:VEVENT

END:VCALENDAR
