BEGIN:VCALENDAR
VERSION:2.0
PRODID:-//ChamberMaster//Event Calendar 2.0//EN
METHOD:PUBLISH
X-PUBLISHED-TTL:P3D
REFRESH-INTERVAL:P3D
CALSCALE:GREGORIAN
BEGIN:VEVENT
DTSTART:20120531T020000Z
DTEND:20120531T033000Z
X-MICROSOFT-CDO-ALLDAYEVENT:FALSE
SUMMARY:Wine\, Women and Wealth
DESCRIPTION:Wine\, Women and Wealth\n\n\n\nWe have a remarkable opportunity for you to network with other women in your area\, share a few laughs over a glass of good wine and learn about the information you need to make better financial decisions. Don't forget to bring your business cards\, because we always make time to network.\n\n\n\nWine\, Women and Wealth\, led by many of Five Ring's top female producers\, is part of our women's social network. We are building a community of women who desire to take charge of their financial future\, expand their knowledge\, and build their confidence regarding money and wealth. Amazing things happen when women team up   especially when you add fine wine to the mix. Whether you're at the end of your rope or the top of the corporate ladder\, there is always more to learn about how you can make your money work for you.\n\n\n\nSo\, come and join us at our next event. And please\, don't hesitate to call Five Rings Financial at 877-899-7447 if you have any questions before our next meeting.
X-ALT-DESC;FMTTYPE=text/html:<u><strong>Wine\, Women and Wealth</strong></u><br />\n<br />\nWe have a remarkable opportunity for you to network with other women in your area\, share a few laughs over a glass of good wine and learn about the information you need to make better financial decisions. Don&rsquo\;t forget to bring your business cards\, because we always make time to network.<br />\n<br />\nWine\, Women and Wealth\, led by many of Five Ring&rsquo\;s top female producers\, is part of our women&rsquo\;s social network. We are building a community of women who desire to take charge of their financial future\, expand their knowledge\, and build their confidence regarding money and wealth. Amazing things happen when women team up &ndash\; especially when you add fine wine to the mix. Whether you&rsquo\;re at the end of your rope or the top of the corporate ladder\, there is always more to learn about how you can make your money work for you.<br />\n<br />\nSo\, come and join us at our next event. And please\, don&rsquo\;t hesitate to call Five Rings Financial at 877-899-7447 if you have any questions before our next meeting.<br />\n<br />\n
LOCATION:Bernardo Winery 13330 Paseo Del Verano Norte
UID:e.784.2636
SEQUENCE:3
DTSTAMP:20260422T154414Z
URL:https://chamber.sdbusinesschamber.com/events/details/wine-women-and-wealth-05-30-2012-2636
END:VEVENT

END:VCALENDAR
