BEGIN:VCALENDAR
VERSION:2.0
PRODID:-//ChamberMaster//Event Calendar 2.0//EN
METHOD:PUBLISH
X-PUBLISHED-TTL:P3D
REFRESH-INTERVAL:P3D
CALSCALE:GREGORIAN
BEGIN:VEVENT
DTSTART:20110423T003000Z
DTEND:20110423T013000Z
X-MICROSOFT-CDO-ALLDAYEVENT:FALSE
SUMMARY:What Business Needs to Know about Climate Change
DESCRIPTION:Special Earth Day presentation featuring leading climate change expert Dr. Michael Dettinger \n\n\n\nLeading international climate change expert Dr. Michael Dettinger will be featured in a special Earth Day presentation\, What Business Needs to Know About Climate Change - The unknown variables that tie them together. \n\n\n\nPut on by Alliant International University's innovative Bright Green MBA program\, this event is crucial for the business community and its leaders. Learn about the hidden impacts and unknown variables of climate change that will inevitably impact business decisions with Dr. Dettinger\, a research hydrologist for the U.S. Geological Survey and research associate at the Scripps Institution of Oceanography. There is no cost to attend this presentation.
X-ALT-DESC;FMTTYPE=text/html:Special Earth Day presentation featuring leading climate change expert Dr. Michael Dettinger \n<br>\n<br>Leading international climate change expert Dr. Michael Dettinger will be featured in a special Earth Day presentation\, What Business Needs to Know About Climate Change - The unknown variables that tie them together. \n<br>\n<br>Put on by Alliant International University's innovative Bright Green MBA program\, this event is crucial for the business community and its leaders. Learn about the hidden impacts and unknown variables of climate change that will inevitably impact business decisions with Dr. Dettinger\, a research hydrologist for the U.S. Geological Survey and research associate at the Scripps Institution of Oceanography. There is no cost to attend this presentation.\n<br>
LOCATION:California Center for Sustainable Energy 8690 Balboa Ave.\, Suite 100 San Diego\, CA 92123
UID:e.784.2285
SEQUENCE:3
DTSTAMP:20260423T113056Z
URL:https://chamber.sdbusinesschamber.com/events/details/what-business-needs-to-know-about-climate-change-04-22-2011-2285
END:VEVENT

END:VCALENDAR
