BEGIN:VCALENDAR
VERSION:2.0
PRODID:-//ChamberMaster//Event Calendar 2.0//EN
METHOD:PUBLISH
X-PUBLISHED-TTL:P3D
REFRESH-INTERVAL:P3D
CALSCALE:GREGORIAN
BEGIN:VEVENT
DTSTART:20210325T220000Z
DTEND:20210325T233000Z
X-MICROSOFT-CDO-ALLDAYEVENT:FALSE
SUMMARY:Webinar: Blazing New Trails Through Product Development
DESCRIPTION:Identifying a market need and bringing a product to market is a dream of many. Hear the story of a veteran with multiple career C-Suite experiences and a financial and investment mastermind who worked together to develop a real-world customer solution. Register now to learn how "Spot2Nite" Co-Founders Terry Broussard and Sam Bruner applied experiential learning to develop and launch a new business in the tourism and travel industry.
X-ALT-DESC;FMTTYPE=text/html:Identifying a market need and bringing a product to market is a dream of many. Hear the story of a veteran with multiple career C-Suite experiences and a financial and investment mastermind who worked together to develop a real-world customer solution. Register now to learn how &quot\;Spot2Nite&quot\; Co-Founders Terry Broussard and Sam Bruner applied experiential learning to develop and launch a new business in the tourism and travel industry.
LOCATION:Virtual! Register here: https://erau.zoom.us/webinar/register/WN__jlVnvvcROy5Cr6HfipzgA
UID:e.784.27405
SEQUENCE:3
DTSTAMP:20260425T125539Z
URL:https://chamber.sdbusinesschamber.com/events/details/webinar-blazing-new-trails-through-product-development-27405
END:VEVENT

END:VCALENDAR
