BEGIN:VCALENDAR
VERSION:2.0
PRODID:-//ChamberMaster//Event Calendar 2.0//EN
METHOD:PUBLISH
X-PUBLISHED-TTL:P3D
REFRESH-INTERVAL:P3D
CALSCALE:GREGORIAN
BEGIN:VEVENT
DTSTART:20110522T180000Z
DTEND:20110522T220000Z
X-MICROSOFT-CDO-ALLDAYEVENT:FALSE
SUMMARY:Water Safety Awareness Day
DESCRIPTION:Join us at the Noonan Family Swim School 4S Ranch Pool to learn about various drowning prevention strategies and gain basic self help skills in an aquatic emergency. Take part in rescue demonstrations\, learn about beach and pool safety\, and observe lifeguard demonstrations on Sunday\, May 22nd\, 2011  11a.m. to 3p.m.
X-ALT-DESC;FMTTYPE=text/html:Join us at the Noonan Family Swim School 4S Ranch Pool to learn about various drowning prevention strategies and gain basic self help skills in an aquatic emergency. Take part in rescue demonstrations\, learn about beach and pool safety\, and observe lifeguard demonstrations on Sunday\, May 22nd\, 2011&nbsp\; 11a.m. to 3p.m.
LOCATION:Noonan Family Swim School\, 4S Ranch Pool 10710 Thornmint Road\, San Diego\, CA 92127
UID:e.784.2289
SEQUENCE:3
DTSTAMP:20260423T100948Z
URL:https://chamber.sdbusinesschamber.com/events/details/water-safety-awareness-day-05-22-2011-2289
END:VEVENT

END:VCALENDAR
