BEGIN:VCALENDAR
VERSION:2.0
PRODID:-//ChamberMaster//Event Calendar 2.0//EN
METHOD:PUBLISH
X-PUBLISHED-TTL:P3D
REFRESH-INTERVAL:P3D
CALSCALE:GREGORIAN
BEGIN:VEVENT
DTSTART:20200911T183000Z
DTEND:20200911T210000Z
X-MICROSOFT-CDO-ALLDAYEVENT:FALSE
SUMMARY:Visionary Luncheon & Auction
DESCRIPTION:the 4th annual Visionary Luncheon and Auction\, happening Friday\, May 8th at Rancho Bernardo Inn. This inspiring afternoon will raise critical funds for local Alzheimer's support and research. Last year's sold-out event raised more than $130\,000 for Alzheimer's support and research. We were thrilled to honor the inimitable Linda Cioffi as the 2019 Visionary of the Year.
X-ALT-DESC;FMTTYPE=text/html:<div>\n<h3><span style="font-family:arial\,helvetica\,sans-serif"><span style="font-size:12px">the 4th annual <strong><span style="color:#222222">Visionary Luncheon and Auction\, </span></strong><span style="color:#222222">happening Friday\, May 8<sup>th</sup> at Rancho Bernardo Inn. This inspiring afternoon will raise critical funds for local Alzheimer&rsquo\;s support and research. </span>Last year&rsquo\;s sold-out event raised more than $130\,000 for Alzheimer&rsquo\;s support and research. We were thrilled to honor the inimitable Linda Cioffi as the 2019 Visionary of the Year.&nbsp\;</span></span></h3>\n</div>\n
LOCATION:Rancho Bernardo Inn 17550 Bernardo Oaks Dr San Diego\, CA 92128
UID:e.784.23230
SEQUENCE:3
DTSTAMP:20260425T210217Z
URL:https://chamber.sdbusinesschamber.com/events/details/visionary-luncheon-auction-23230
END:VEVENT

END:VCALENDAR
