BEGIN:VCALENDAR
VERSION:2.0
PRODID:-//ChamberMaster//Event Calendar 2.0//EN
METHOD:PUBLISH
X-PUBLISHED-TTL:P3D
REFRESH-INTERVAL:P3D
CALSCALE:GREGORIAN
BEGIN:VEVENT
DTSTART:20210429T150000Z
DTEND:20210429T190000Z
X-MICROSOFT-CDO-ALLDAYEVENT:FALSE
SUMMARY:Virtual Re:Imagine Leadership Summit
DESCRIPTION:We committed last year to using our platform to push progress forward\, and are thrilled with the overwhelming response from people around the world who want to continue to learn about diversity\, equity\, inclusion\, and belonging in principle and in practice. That's why we've decided to dedicate our half-day Re:Imagine Leadership Summit to provide even more in-depth resources and guidance.\n\nTopics Covered:\n\n\n	From the Head to the Heart: Closing the Gap Between Performative Allyship and Real Change\n	The Neuroscience of Bias\n	Starting Your DEI Journey\n	Calling\, Character\, and Capacity: The Critical Nature of Self-Leadership in a Constantly Changing World\, and more.\n\n\nSpeakers:\n\nTerrell Fletcher   Former NFL Player\, Pastor\, Author\, Philanthropist\n\nSarah Hassaine   Director of Diversity & Inclusion\, ResMed\n\nDr. Tony Baron   Scholar In Residence\, Center for Executive Excellence\n\nSheri Nasim   President & CEO\, Center for Executive Excellence\n\nCOST: $250\n\nIncludes: On-demand recordings after the Summit\n\n\n\nThis Program has been approved for 5 HR (General) recertification credit hours toward aPHR \, aPHRi \, PHR \, PHRca \, SPHR \, GPHR \, PHRi  and SPHRi recertification through HR Certification Institute  (HRCI ). The use of this official seal confirms that this Activity has met HR Certification Institute's  (HRCI )  criteria for recertification credit pre-approval
X-ALT-DESC;FMTTYPE=text/html:<p><span style="font-size:12px"><span style="color:rgb(32\, 32\, 32)\; font-family:verdana\,geneva\,sans-serif">We committed last year to using our platform&nbsp\;to push progress forward\, and are thrilled with the overwhelming response from people around the world who want to continue to learn about diversity\, equity\, inclusion\, and belonging in principle and in practice. That&rsquo\;s why we&rsquo\;ve decided to dedicate our half-day&nbsp\;Re:Imagine Leadership Summit&nbsp\;to provide even more in-depth resources and guidance.</span></span></p>\n\n<p><strong>Topics Covered:</strong></p>\n\n<ul>\n	<li>From the Head to the Heart: Closing the Gap Between Performative Allyship and Real Change</li>\n	<li>The Neuroscience of Bias</li>\n	<li>Starting Your DEI Journey</li>\n	<li>Calling\, Character\, and Capacity: The Critical Nature of Self-Leadership in a Constantly Changing World\, and more.</li>\n</ul>\n\n<p><strong>Speakers:</strong></p>\n\n<p><strong>Terrell Fletcher</strong>&nbsp\;&ndash\; Former NFL Player\, Pastor\, Author\, Philanthropist</p>\n\n<p><strong>Sarah Hassaine</strong>&nbsp\;&ndash\; Director of Diversity &amp\; Inclusion\, ResMed</p>\n\n<p><strong>Dr. Tony Baron</strong>&nbsp\;&ndash\; Scholar In Residence\, Center for Executive Excellence</p>\n\n<p><strong>Sheri Nasim</strong>&nbsp\;&ndash\; President &amp\; CEO\, Center for Executive Excellence</p>\n\n<p><span style="color:rgb(126\, 190\, 197)"><strong>COST:&nbsp\;</strong></span>$250</p>\n\n<p><strong>Includes:&nbsp\;</strong>On-demand recordings after the Summit</p>\n\n<p><br />\n<span style="font-size:12px"><span style="font-family:verdana"><em>This Program has been approved for 5 HR (General)&thinsp\;recertification credit hours toward aPHR&trade\;\, aPHRi&trade\;\, PHR&reg\;\, PHRca&reg\;\, SPHR&reg\;\, GPHR&reg\;\, PHRi&trade\; and SPHRi&trade\;recertification through HR Certification Institute&reg\; (HRCI&reg\;). The use of this official seal confirms that this Activity has met HR Certification Institute&rsquo\;s&reg\; (HRCI&reg\;)&nbsp\; criteria for recertification credit pre-approval</em></span></span></p>\n
LOCATION:Online (via Zoom)
UID:e.784.27399
SEQUENCE:3
DTSTAMP:20260425T113025Z
URL:https://chamber.sdbusinesschamber.com/events/details/virtual-re-imagine-leadership-summit-27399
END:VEVENT

END:VCALENDAR
