BEGIN:VCALENDAR
VERSION:2.0
PRODID:-//ChamberMaster//Event Calendar 2.0//EN
METHOD:PUBLISH
X-PUBLISHED-TTL:P3D
REFRESH-INTERVAL:P3D
CALSCALE:GREGORIAN
BEGIN:VEVENT
DTSTART:20210210T233000Z
DTEND:20210211T013000Z
X-MICROSOFT-CDO-ALLDAYEVENT:FALSE
SUMMARY:Virtual Connections Networking Event
DESCRIPTION:Join the Chamber Board of Directors\, members and business leaders for a fun evening of connecting virtually. \n\n\n\nBe sure to grab your glass of wine\, beer or any drink of your choice and let's connect. Register to join us for a great networking event where Chamber Members and guests will have the opportunity to introduce themselves\, Share their interests outside of work\, and connect with each other.\n\n\n\nChamber Members will receive the attendee list after the event.\n\n\n\nEXCITING NEW FORMAT THIS MONTH: People connect and build relationships based on mutual connections\, and interests. Because we understand this\, we will be breaking out into smaller groups of 8 - 10 and each attendee will introduce them self\, their company\, title and share with us something they like to do outside of work. \n\n\n\nSpace is limited. Registration required.
X-ALT-DESC;FMTTYPE=text/html:Join the Chamber Board of Directors\, members and business leaders for a fun evening of connecting virtually.&nbsp\;<br />\n<br />\nBe sure to grab your glass of wine\, beer or any drink of your choice and let&#39\;s connect.&nbsp\;Register to join us for a great networking event where Chamber Members and guests will have the opportunity to introduce themselves\, Share their interests outside of work\, and connect with each other.<br />\n<br />\nChamber Members will receive the attendee list after the event.<br />\n<br />\n<strong style="color: rgb(51\, 51\, 51)\; font-family: sans-serif\, Arial\, Verdana\, &quot\;Trebuchet MS&quot\;\; font-size: 13px\;">EXCITING NEW FORMAT THIS MONTH: People connect and build relationships based on mutual connections\, and interests. Because we understand this\, we will be breaking out into smaller groups of 8 - 10 and each attendee will introduce them self\, their company\, title and share with us something they like to do outside of work.&nbsp\;</strong><br />\n<br style="color: rgb(51\, 51\, 51)\; font-family: sans-serif\, Arial\, Verdana\, &quot\;Trebuchet MS&quot\;\; font-size: 13px\;" />\n<span style="color: rgb(51\, 51\, 51)\; font-family: sans-serif\, Arial\, Verdana\, &quot\;Trebuchet MS&quot\;\; font-size: 13px\; background-color: rgb(255\, 255\, 255)\;">Space is limited. Registration required.</span><br />\n&nbsp\;
LOCATION:Registered attendees will receive a link before the event with log in details.
UID:e.784.24711
SEQUENCE:3
DTSTAMP:20260425T141458Z
URL:https://chamber.sdbusinesschamber.com/events/details/virtual-connections-networking-event-02-10-2021-24711
END:VEVENT

END:VCALENDAR
