BEGIN:VCALENDAR
VERSION:2.0
PRODID:-//ChamberMaster//Event Calendar 2.0//EN
METHOD:PUBLISH
X-PUBLISHED-TTL:P3D
REFRESH-INTERVAL:P3D
CALSCALE:GREGORIAN
BEGIN:VEVENT
DTSTART:20210113T233000Z
DTEND:20210114T013000Z
X-MICROSOFT-CDO-ALLDAYEVENT:FALSE
SUMMARY:Virtual Connections Networking Event
DESCRIPTION:Join the Chamber Board of Directors\, members and business leaders for a fun evening of connecting virtually. \n\n\n\nBe sure to grab your glass of wine\, beer or any drink of your choice and let's connect. Register to join us for a great networking event where Chamber Members and guests will have the opportunity to introduce themselves and connect with each other.\n\n\n\nChamber Members will receive the attendee list after the event.\n\n\n\nEXCITING NEW FORMAT: Join us as we launch our Reciprocity Ring. "The Reciprocity Ring is built around asking for and giving help. It taps the collective knowledge\, networks and energy of a group to meet each person's request . Who you know? becomes Who (and what ) do we all know?"\n\n\n\nBring your ask to the group and let's all be a resource for each other. Maybe you are looking for a warm lead into an industry or company\, looking for a new job\, perhaps help with childcare\, or referrals to your business.\n\n\n\nSpace is limited. Registration required.
X-ALT-DESC;FMTTYPE=text/html:Join the Chamber Board of Directors\, members and business leaders for a fun evening of connecting virtually.&nbsp\;<br />\n<br />\nBe sure to grab your glass of wine\, beer or any drink of your choice and let&#39\;s connect.&nbsp\;Register to join us for a great networking event where Chamber Members and guests will have the opportunity to introduce themselves and connect with each other.<br />\n<br />\nChamber Members will receive the attendee list after the event.<br />\n<br />\n<strong>EXCITING NEW FORMAT: </strong>Join us as we launch our Reciprocity Ring. &ldquo\;The <a href="https://bit.ly/2VTMcKN"><strong>Reciprocity Ring</strong></a>&nbsp\;is built around asking for and giving help. It taps the collective knowledge\, networks and energy of a group to meet each person&#39\;s request&hellip\;. Who you know? becomes Who (and what ) do we all know?&rdquo\;<br />\n<br />\nBring your ask to the group and let&rsquo\;s all be a resource for each other. Maybe you are looking for a warm lead into an industry or company\, looking for a new job\, perhaps help with childcare\, or referrals to your business.<br />\n<br />\nSpace is limited. Registration required.<br />\n&nbsp\;
LOCATION:Registered attendees will receive a link before the event with log in details.
UID:e.784.24710
SEQUENCE:3
DTSTAMP:20260425T153806Z
URL:https://chamber.sdbusinesschamber.com/events/details/virtual-connections-networking-event-01-13-2021-24710
END:VEVENT

END:VCALENDAR
