BEGIN:VCALENDAR
VERSION:2.0
PRODID:-//ChamberMaster//Event Calendar 2.0//EN
METHOD:PUBLISH
X-PUBLISHED-TTL:P3D
REFRESH-INTERVAL:P3D
CALSCALE:GREGORIAN
BEGIN:VEVENT
DTSTART:20121202T040000Z
DTEND:20121202T060000Z
X-MICROSOFT-CDO-ALLDAYEVENT:FALSE
SUMMARY:Vicki Lawrence and Mama: A Two Woman Show
DESCRIPTION:Vicki Lawrence's classmates were spot on when they voted her "Most Likely to Succeed."  From her eleven hilarious years with The Carol Burnett Show (which won her an Emmy ) to her gold record for "The Night the Lights Went Out in Georgia\," her TV series "Mama's Family\," her hosting of Win\, Lose or Draw\, Vicki! and Fox After Breakfast\, and her numerous stage productions\, Vicki approaches everything with a sense of humor\, because "Life is much too serious to be taken seriously!" She and Mama share a double-bill for an evening of stories\, songs and laughs.
X-ALT-DESC;FMTTYPE=text/html:<p class="MsoNormal" style="margin: 0in 0in 0pt">\n	<font size="3"><font color="#000000"><font face="Calibri">Vicki Lawrence&rsquo\;s classmates were spot on when they voted her &ldquo\;Most Likely to Succeed.&rdquo\;<span style="mso-spacerun: yes">&nbsp\; </span>From her eleven hilarious years with The Carol Burnett Show (which won her an Emmy&reg\;) to her gold record for &ldquo\;The Night the Lights Went Out in Georgia\,&rdquo\; her TV series &ldquo\;Mama&rsquo\;s Family\,&rdquo\; her hosting of Win\, Lose or Draw\, Vicki! and Fox After Breakfast\, and her numerous stage productions\, Vicki approaches everything with a sense of humor\, because &ldquo\;Life is much too serious to be taken seriously!&rdquo\; She and Mama share a double-bill for an evening of stories\, songs and laughs. <o:p></o:p></font></font></font></p>\n
LOCATION:Poway Center for the Performing Arts 15498 Espola Road\, Poway\, CA 92064
UID:e.784.2663
SEQUENCE:3
DTSTAMP:20260422T045606Z
URL:https://chamber.sdbusinesschamber.com/events/details/vicki-lawrence-and-mama-a-two-woman-show-12-01-2012-2663
END:VEVENT

END:VCALENDAR
