BEGIN:VCALENDAR
VERSION:2.0
PRODID:-//ChamberMaster//Event Calendar 2.0//EN
METHOD:PUBLISH
X-PUBLISHED-TTL:P3D
REFRESH-INTERVAL:P3D
CALSCALE:GREGORIAN
BEGIN:VEVENT
DTSTART;VALUE=DATE:20210205
DTEND;VALUE=DATE:20210207
TRANSP:TRANSPARENT
X-MICROSOFT-CDO-ALLDAYEVENT:TRUE
SUMMARY:Valentines Collectors Estate Auction
DESCRIPTION:2021 February Collectors Estate Auction\n\n\nNorthCountyAuctions.Com\n\n\nLots start closing Saturday\, February 6 - 5:15 PM  Pacific Escondido\,  CA\n\n\n\nCelebrate Valentines all month long! Wedding Dresses Gems\, Jewelry\, Coins\, MTG Pokemon Collector Cards and more - Love is in the mail! To get upcoming auctions\, text ncauctions to 77222
X-ALT-DESC;FMTTYPE=text/html:<h1>2021 February Collectors Estate Auction</h1>\n\n<div>\n<h3><a href="https://NorthCountyAuctions.Com" style="color: rgb(48\, 121\, 164)\; text-decoration-line: none\;">NorthCountyAuctions.Com</a></h3>\n</div>\n\n<div>Lots start closing Saturday\, February 6 - 5:15 PM &nbsp\;Pacific Escondido\,&nbsp\;&nbsp\;CA</div>\n\n<div><br />\nCelebrate Valentines all month long! Wedding Dresses Gems\, Jewelry\, Coins\, MTG Pokemon Collector Cards and more - Love is in the mail! To get upcoming auctions\, text ncauctions to 77222</div>\n
LOCATION:NorthCountyAuctions.Com
UID:e.784.27237
SEQUENCE:3
DTSTAMP:20260425T142329Z
URL:https://chamber.sdbusinesschamber.com/events/details/valentines-collectors-estate-auction-27237
END:VEVENT

END:VCALENDAR
