BEGIN:VCALENDAR
VERSION:2.0
PRODID:-//ChamberMaster//Event Calendar 2.0//EN
METHOD:PUBLISH
X-PUBLISHED-TTL:P3D
REFRESH-INTERVAL:P3D
CALSCALE:GREGORIAN
BEGIN:VEVENT
DTSTART:20100214T080000Z
DTEND:20100214T080000Z
X-MICROSOFT-CDO-ALLDAYEVENT:FALSE
SUMMARY:Valentine's Day Brunch
DESCRIPTION:My Community Huddle is hosting a romantic Valentine's Day Brunch that will include live jazz entertatinment. Event is a fundraiser to support our Charm School-Life Skills Traing Program for At Risk Girls which is proudly sponsored by Planned Parenthood and KURS 1040\, San Diego's Gospel radio station.
X-ALT-DESC;FMTTYPE=text/html:My Community Huddle is hosting a romantic Valentine's Day Brunch that will include live jazz entertatinment. Event is a fundraiser to support our Charm School-Life Skills Traing Program for At Risk Girls which is proudly sponsored by Planned Parenthood and KURS 1040\, San Diego's Gospel radio station.
LOCATION:Courtyard by Marriott Ranch Bernardo
UID:e.784.-170
SEQUENCE:3
DTSTAMP:20260424T054245Z
URL:https://chamber.sdbusinesschamber.com/events/details/valentine-s-day-brunch-02-14-2010
END:VEVENT

END:VCALENDAR
