BEGIN:VCALENDAR
VERSION:2.0
PRODID:-//ChamberMaster//Event Calendar 2.0//EN
METHOD:PUBLISH
X-PUBLISHED-TTL:P3D
REFRESH-INTERVAL:P3D
CALSCALE:GREGORIAN
BEGIN:VEVENT
DTSTART:20090916T070000Z
DTEND:20090916T070000Z
X-MICROSOFT-CDO-ALLDAYEVENT:FALSE
SUMMARY:Tierrasanta Business Network Mixer
DESCRIPTION:
X-ALT-DESC;FMTTYPE=text/html:
LOCATION:Tierrasanta Community Information Center
UID:e.784.887
SEQUENCE:3
DTSTAMP:20260424T143911Z
URL:https://chamber.sdbusinesschamber.com/events/details/tierrasanta-business-network-mixer-09-16-2009-887
END:VEVENT

END:VCALENDAR
