BEGIN:VCALENDAR
VERSION:2.0
PRODID:-//ChamberMaster//Event Calendar 2.0//EN
METHOD:PUBLISH
X-PUBLISHED-TTL:P3D
REFRESH-INTERVAL:P3D
CALSCALE:GREGORIAN
BEGIN:VEVENT
DTSTART:20120120T013000Z
DTEND:20120120T040000Z
X-MICROSOFT-CDO-ALLDAYEVENT:FALSE
SUMMARY:The Water Pill: Water Solutions from Around the World
DESCRIPTION:Ecotopics and Clean Energy Principles presents:\n\nThe Water Pill:  Water Solutions from Around the World\n\n\n\nWater has always been precious commodity and with population pressures\, climate change\, and economic stresses\, water is evermore central to human survival and prosperity. California has a long history of water conflicts and it is not getting easier. Two countries\, Singapore and Australia\, have been similarly affected. These countries have implemented some policies and projects that have enabled them to evolve out of the crisis. This presentation highlights the water management strategies employed by Singapore and Australia.\n\n\n\nSpeakers Bio\n\n\n\nSoma Bhadra\, P.E. is the CEO of PROTEUS Consulting\, a boutique engineering firm that provides engineering and management consulting engineering services in the water\, wastewater and recycled water industry. PROTEUS Consulting is known for its creativity and problem-solving skills\, and clients appreciate the individual attention this small\, flexible firm is able to provide. Service offerings include: Traditional Engineering\, Design-Build Engineering\, Grants and Regulatory Compliance\, Management Consulting\, and Sustainability Frontiers.\n\n\n\nSoma has a BE is Civil Engineering from Bengal Engineering College\, India\; and a MS in Environmental Engineering from University at Buffalo (SUNY). Soma has over 13 years of experience in design\, construction\, and operation of water\, wastewater\, ultra-pure\, and recycled water treatment plants and conveyance systems. She has lived and worked in Australia\, Singapore\, and US (NY\, CA\, NC) and has a broad and unique perspective about the water related issues and solutions from around the globe. Soma lives in San Diego with her husband and two adorable poodles. In her spare time she cooks fusion cuisine and also teaches Indian cooking classes.
X-ALT-DESC;FMTTYPE=text/html:Ecotopics and Clean Energy Principles presents:<br />\nThe Water Pill:&nbsp\; Water Solutions from Around the World<br />\n<br />\nWater has always been precious commodity and with population pressures\, climate change\, and economic stresses\, water is evermore central to human survival and prosperity. California has a long history of water conflicts and it is not getting easier. Two countries\, Singapore and Australia\, have been similarly affected. These countries have implemented some policies and projects that have enabled them to evolve out of the crisis. This presentation highlights the water management strategies employed by Singapore and Australia.<br />\n<br />\nSpeakers Bio<br />\n<br />\nSoma Bhadra\, P.E. is the CEO of PROTEUS Consulting\, a boutique engineering firm that provides engineering and management consulting engineering services in the water\, wastewater and recycled water industry. PROTEUS Consulting is known for its creativity and problem-solving skills\, and clients appreciate the individual attention this small\, flexible firm is able to provide. Service offerings include: Traditional Engineering\, Design-Build Engineering\, Grants and Regulatory Compliance\, Management Consulting\, and Sustainability Frontiers.<br />\n<br />\nSoma has a BE is Civil Engineering from Bengal Engineering College\, India\; and a MS in Environmental Engineering from University at Buffalo (SUNY). Soma has over 13 years of experience in design\, construction\, and operation of water\, wastewater\, ultra-pure\, and recycled water treatment plants and conveyance systems. She has lived and worked in Australia\, Singapore\, and US (NY\, CA\, NC) and has a broad and unique perspective about the water related issues and solutions from around the globe. Soma lives in San Diego with her husband and two adorable poodles. In her spare time she cooks fusion cuisine and also teaches Indian cooking classes.
LOCATION:Law Office of Jones Day\, 12265 El Camino Real #300\, San Diego\, CA 92130
UID:e.784.2539
SEQUENCE:3
DTSTAMP:20260422T225844Z
URL:https://chamber.sdbusinesschamber.com/events/details/the-water-pill-water-solutions-from-around-the-world-01-19-2012-2539
END:VEVENT

END:VCALENDAR
