BEGIN:VCALENDAR
VERSION:2.0
PRODID:-//ChamberMaster//Event Calendar 2.0//EN
METHOD:PUBLISH
X-PUBLISHED-TTL:P3D
REFRESH-INTERVAL:P3D
CALSCALE:GREGORIAN
BEGIN:VEVENT
DTSTART;VALUE=DATE:20100925
DTEND;VALUE=DATE:20100927
TRANSP:TRANSPARENT
X-MICROSOFT-CDO-ALLDAYEVENT:TRUE
SUMMARY:The Sun\, The Butterfly and The Dove
DESCRIPTION:Join Deborah Szekely\, Co-founder for Rancho La Puerta's 70th Birthday Gala Dinner and Symposium.\n\nBoth events will raise funds for Fundacion La Puerta's Binational Environmental\, Educational\, and Social Projects to build a better future for San Diego-Baja California Border Region.
X-ALT-DESC;FMTTYPE=text/html:Join Deborah Szekely\, Co-founder for Rancho La Puerta's 70th Birthday Gala Dinner and Symposium.\n<br>Both events will raise funds for Fundacion La Puerta's Binational Environmental\, Educational\, and Social Projects to build a better future for San Diego-Baja California Border Region.
LOCATION:Both Events will be held at the Hilton San Diego Bayfront\; 1 Park Boulevard\; 92101.
UID:e.784.1824
SEQUENCE:3
DTSTAMP:20260423T195745Z
URL:https://chamber.sdbusinesschamber.com/events/details/the-sun-the-butterfly-and-the-dove-09-25-2010-1824
END:VEVENT

END:VCALENDAR
