BEGIN:VCALENDAR
VERSION:2.0
PRODID:-//ChamberMaster//Event Calendar 2.0//EN
METHOD:PUBLISH
X-PUBLISHED-TTL:P3D
REFRESH-INTERVAL:P3D
CALSCALE:GREGORIAN
BEGIN:VEVENT
DTSTART:20110403T030000Z
DTEND:20110403T030000Z
X-MICROSOFT-CDO-ALLDAYEVENT:FALSE
SUMMARY:The Royal Family of the Guitar: The Romeros
DESCRIPTION:Known to millions as "The Royal Family of the Guitar\," The Romeros were founded by the legendary Celedonio Romero with his sons Celin\, Pepe and Angel in 1960. With the introduction of Celin's son\, Celino in 1990 and Angel's son\, Lito in 1995\, The Romeros now encompass three generations of concert artists. Their most lasting legacy is the creation of an entirely new repertoire for guitar quartet\, both as a chamber ensemble and as a concerto soloist. For 50 years three generations of Romeros have inspired distinguished composers to either write new works or arrange existing ones for classical guitar. In the words of Spanish composer Joaquin Rodrigo\, "The Romeros have developed the technique of the guitar by making what is difficult to be easy\; They are\, without a doubt\, the grand masters of the guitar."
X-ALT-DESC;FMTTYPE=text/html:<div>Known to millions as &quot\;The Royal Family of the Guitar\,&quot\; The Romeros were founded by the legendary Celedonio Romero with his sons Celin\, Pepe and Angel in 1960. With the introduction of Celin's son\, Celino in 1990 and Angel's son\, Lito in 1995\, The Romeros now encompass three generations of concert artists. Their most lasting legacy is the creation of an entirely new repertoire for guitar quartet\, both as a chamber ensemble and as a concerto soloist. For 50 years three generations of Romeros have inspired distinguished composers to either write new works or arrange existing ones for classical guitar. In the words of Spanish composer Joaquin Rodrigo\, &quot\;The Romeros have developed the technique of the guitar by making what is difficult to be easy\; They are\, without a doubt\, the grand masters of the guitar.&quot\;</div>
LOCATION:Poway Center for the Performing Arts
UID:e.784.1775
SEQUENCE:3
DTSTAMP:20260423T115027Z
URL:https://chamber.sdbusinesschamber.com/events/details/the-royal-family-of-the-guitar-the-romeros-04-02-2011-1775
END:VEVENT

END:VCALENDAR
