BEGIN:VCALENDAR
VERSION:2.0
PRODID:-//ChamberMaster//Event Calendar 2.0//EN
METHOD:PUBLISH
X-PUBLISHED-TTL:P3D
REFRESH-INTERVAL:P3D
CALSCALE:GREGORIAN
BEGIN:VEVENT
DTSTART:20130921T030000Z
DTEND:20130921T050000Z
X-MICROSOFT-CDO-ALLDAYEVENT:FALSE
SUMMARY:The Robert Cray Band
DESCRIPTION:Normal\n  0\n  \n  \n  false\n  false\n  false\n  \n   \n   \n   \n   \n   \n  \n  MicrosoftInternetExplorer4\n \n\n\n	With 5 Grammy Awards\, 15 Grammy nominations\, millions of record sales worldwide\, and thousands of sold out performances\, blues rock icon Robert Cray is considered one of the greatest guitarists of his generation.  Rolling Stone Magazine credits Cray with reinventing the blues with his "distinct razor sharp guitar playing" and credits his 1986 breakthrough album Strong Persuader with introducing a new generation of rock fans to the blues.\n\n	A consummate performer\, Cray has written and played with blues luminaries ranging from Eric Clapton to Stevie Ray Vaughn\, from Bonnie Raitt to John Lee Hooker.  Recently inducted into the Blues Hall of Fame at the age of 57\, he is one of the youngest living legends to receive the prestigious honor.  2012 saw Robert release his sixteenth studio album and embark on yet another world tour.  Don't miss his stop in Poway.  A must-see for blues fans of any generation!\n\n \n \n\n\nst1\\:*{behavior:url(#ieooui) }\n\n\n\n /* Style Definitions */\n table.MsoNormalTable\n	{mso-style-name:"Table Normal"\;\n	mso-tstyle-rowband-size:0\;\n	mso-tstyle-colband-size:0\;\n	mso-style-noshow:yes\;\n	mso-style-parent:""\;\n	mso-padding-alt:0in 5.4pt 0in 5.4pt\;\n	mso-para-margin:0in\;\n	mso-para-margin-bottom:.0001pt\;\n	mso-pagination:widow-orphan\;\n	font-size:10.0pt\;\n	font-family:"Times New Roman"\;\n	mso-ansi-language:#0400\;\n	mso-fareast-language:#0400\;\n	mso-bidi-language:#0400\;}
X-ALT-DESC;FMTTYPE=text/html:<!--[if gte mso 9]><xml>\n <w:WordDocument>\n  <w:View>Normal</w:View>\n  <w:Zoom>0</w:Zoom>\n  <w:PunctuationKerning/>\n  <w:ValidateAgainstSchemas/>\n  <w:SaveIfXMLInvalid>false</w:SaveIfXMLInvalid>\n  <w:IgnoreMixedContent>false</w:IgnoreMixedContent>\n  <w:AlwaysShowPlaceholderText>false</w:AlwaysShowPlaceholderText>\n  <w:Compatibility>\n   <w:BreakWrappedTables/>\n   <w:SnapToGridInCell/>\n   <w:WrapTextWithPunct/>\n   <w:UseAsianBreakRules/>\n   <w:DontGrowAutofit/>\n  </w:Compatibility>\n  <w:BrowserLevel>MicrosoftInternetExplorer4</w:BrowserLevel>\n </w:WordDocument>\n</xml><![endif]-->\n<p class="MsoNormal" style="mso-margin-top-alt:auto">\n	<span style="font-size:11.0pt\;\nfont-family:Calibri">With 5 Grammy Awards\, 15 Grammy nominations\, millions of record sales worldwide\, and thousands of sold out performances\, blues rock icon <b style="mso-bidi-font-weight:normal">Robert Cray</b> is considered one of the greatest guitarists of his generation.<span style="mso-spacerun:yes">&nbsp\; </span><i style="mso-bidi-font-style:normal">Rolling Stone Magazine</i> credits Cray with reinventing the blues with his &ldquo\;distinct razor sharp guitar playing&rdquo\; and credits his 1986 breakthrough album <i style="mso-bidi-font-style:normal">Strong Persuader </i>with introducing a new generation of rock fans to the blues.</span></p>\n<p class="MsoNormal" style="mso-margin-top-alt:auto">\n	<span style="font-size:11.0pt\;\nfont-family:Calibri">A consummate performer\, Cray has written and played with blues luminaries ranging from Eric Clapton to Stevie Ray Vaughn\, from Bonnie Raitt to John Lee Hooker.<span style="mso-spacerun:yes">&nbsp\; </span>Recently inducted into the Blues Hall of Fame at the age of 57\, he is one of the youngest living legends to receive the prestigious honor.<span style="mso-spacerun:yes">&nbsp\; </span>2012 saw Robert release his sixteenth studio album and embark on yet another world tour.<span style="mso-spacerun:yes">&nbsp\; </span>Don&rsquo\;t miss his stop in Poway.<span style="mso-spacerun:yes">&nbsp\; </span>A must-see for blues fans of any generation!</span></p>\n<!--[if gte mso 9]><xml>\n <w:LatentStyles DefLockedState="false" LatentStyleCount="156">\n </w:LatentStyles>\n</xml><![endif]--><!--[if !mso]><object\n classid="clsid:38481807-CA0E-42D2-BF39-B33AF135CC4D" id=ieooui></object>\n<style>\nst1\\:*{behavior:url(#ieooui) }\n</style>\n<![endif]--><!--[if gte mso 10]>\n<style>\n /* Style Definitions */\n table.MsoNormalTable\n	{mso-style-name:"Table Normal"\;\n	mso-tstyle-rowband-size:0\;\n	mso-tstyle-colband-size:0\;\n	mso-style-noshow:yes\;\n	mso-style-parent:""\;\n	mso-padding-alt:0in 5.4pt 0in 5.4pt\;\n	mso-para-margin:0in\;\n	mso-para-margin-bottom:.0001pt\;\n	mso-pagination:widow-orphan\;\n	font-size:10.0pt\;\n	font-family:"Times New Roman"\;\n	mso-ansi-language:#0400\;\n	mso-fareast-language:#0400\;\n	mso-bidi-language:#0400\;}\n</style>\n<![endif]-->
LOCATION:Poway Center for the Performing Arts 15498 Espola Road Poway\, CA 92064
UID:e.784.2910
SEQUENCE:3
DTSTAMP:20260421T155529Z
URL:https://chamber.sdbusinesschamber.com/events/details/the-robert-cray-band-09-20-2013-2910
END:VEVENT

END:VCALENDAR
