BEGIN:VCALENDAR
VERSION:2.0
PRODID:-//ChamberMaster//Event Calendar 2.0//EN
METHOD:PUBLISH
X-PUBLISHED-TTL:P3D
REFRESH-INTERVAL:P3D
CALSCALE:GREGORIAN
BEGIN:VEVENT
DTSTART:20110825T190000Z
DTEND:20110825T203000Z
X-MICROSOFT-CDO-ALLDAYEVENT:FALSE
SUMMARY:The Power of Grant Writing for Non-Profits
DESCRIPTION:Effectively crafting winning proposals increases your chance of getting funded. Join us to learn specific tools to enhance your grant writing skills!\n\n\n\nPresented by:\n\n\n\nRebecca Bennion\, The San Diego Foundation
X-ALT-DESC;FMTTYPE=text/html:Effectively crafting winning proposals increases your chance of getting funded. Join us to learn specific tools to enhance your grant writing skills!<br />\n<br />\nPresented by:<br />\n<br />\nRebecca Bennion\, The San Diego Foundation
LOCATION:Carmel Mountain Ranch Public Library 12095 World Trade Drive San Diego CA 92128
UID:e.784.2447
SEQUENCE:3
DTSTAMP:20260423T054956Z
URL:https://chamber.sdbusinesschamber.com/events/details/the-power-of-grant-writing-for-non-profits-08-25-2011-2447
END:VEVENT

END:VCALENDAR
