BEGIN:VCALENDAR
VERSION:2.0
PRODID:-//ChamberMaster//Event Calendar 2.0//EN
METHOD:PUBLISH
X-PUBLISHED-TTL:P3D
REFRESH-INTERVAL:P3D
CALSCALE:GREGORIAN
BEGIN:VEVENT
DTSTART:20090424T070000Z
DTEND:20090424T070000Z
X-MICROSOFT-CDO-ALLDAYEVENT:FALSE
SUMMARY:The Positive Impact of Stimulus on Your Business
DESCRIPTION:If you are having trouble registering online please call the Chamber at 858-487-1767 and a representative will be happy to assist you.
X-ALT-DESC;FMTTYPE=text/html:<DIV>If you are having trouble registering online please call the Chamber at 858-487-1767 and a representative will be happy to assist you.</DIV>
LOCATION:National University
UID:e.784.831
SEQUENCE:3
DTSTAMP:20260424T204512Z
URL:https://chamber.sdbusinesschamber.com/events/details/the-positive-impact-of-stimulus-on-your-business-04-24-2009-831
END:VEVENT

END:VCALENDAR
