BEGIN:VCALENDAR
VERSION:2.0
PRODID:-//ChamberMaster//Event Calendar 2.0//EN
METHOD:PUBLISH
X-PUBLISHED-TTL:P3D
REFRESH-INTERVAL:P3D
CALSCALE:GREGORIAN
BEGIN:VEVENT
DTSTART:20121027T160000Z
DTEND:20121027T233000Z
X-MICROSOFT-CDO-ALLDAYEVENT:FALSE
SUMMARY:The Passive Income Workshop
DESCRIPTION:A 1-day workshop called\, THE PASSIVE INCOME WORKSHOP\, live in San Diego on October 27 hosted by SD North Chamber member\, Brian Darisay of Dovetail Investments. This workshop is a brand new creation from financial expert and author of "The Wealthy Code"\, George Antone. It is an interactive and fun way to learn the most advanced techniques of evaluating passive income for any investment vehicle (income properties\, private lending\, business\, etc.).\n\n	\n\n	 \n\n	Here's some of the comments from students that attended in September... \n\n	"I liked the interactive format and team exercises." \n\n	"The exercises were great reinforcement.' \n\n	"Thank you for a wonderful opportunity and the workshop greatly broadened my perspective on Passive Income \n\n	" A lot of valuable information that will help you reconsider your life." \n\n	 \n\n	The workshop has now launched but still available at a discounted rate of $97. Many would pay $500 or more for a 1-day workshop of this caliber! \n\n	 \n\n	Register now at http://www.thepassiveincomeworkshop.com/.
X-ALT-DESC;FMTTYPE=text/html:<p>\n	A 1-day workshop called\, <strong>THE PASSIVE INCOME WORKSHOP</strong>\, live in San Diego on October 27 hosted by SD North Chamber member\, Brian Darisay of Dovetail Investments. This workshop is a brand new creation from financial expert and author of &quot\;The Wealthy Code&quot\;\, George Antone. It is an interactive and fun way to learn the most advanced techniques of evaluating passive income for any investment vehicle (income properties\, private lending\, business\, etc.).<br />\n	<br />\n	&nbsp\;</p>\n<p class="MsoNormal" style="margin: 0in 0in 0pt 0.5in">\n	<span class="share-body"><span style="color: #1f497d"><font size="3">Here&#39\;s some of the comments from students that attended in September... <o:p></o:p></font></span></span></p>\n<p class="MsoNormal" style="margin: 0in 0in 0pt 1in">\n	<i><span style="color: #1f497d"><font size="3">&ldquo\;I liked the interactive format and team exercises.&rdquo\; </font></span></i></p>\n<p class="MsoNormal" style="margin: 0in 0in 0pt 1in">\n	<font size="3"><i><span style="color: #1f497d">&ldquo\;The exercises were great reinforcement.&rsquo\; </span></i><span style="color: #1f497d"><o:p></o:p></span></font></p>\n<p class="MsoNormal" style="margin: 0in 0in 0pt 1in">\n	<font size="3"><i><span style="color: #1f497d">&ldquo\;Thank you for a wonderful opportunity and the workshop greatly broadened my perspective on Passive Income&hellip\;</span></i><span style="color: #1f497d"><o:p></o:p></span></font></p>\n<p class="MsoNormal" style="margin: 0in 0in 0pt 1in">\n	<font size="3"><i><span style="color: #1f497d">&ldquo\; A lot of valuable information that will help you reconsider your life.&rdquo\;</span></i><span style="color: #1f497d"> <o:p></o:p></span></font></p>\n<p class="MsoNormal" style="margin: 0in 0in 0pt 0.5in">\n	<span class="share-body"><o:p><font color="#000000" size="3">&nbsp\;</font></o:p></span></p>\n<p class="MsoNormal" style="margin: 0in 0in 0pt 0.5in">\n	<span class="share-body"><span style="color: #1f497d"><font size="3">The workshop has now launched but still available at a discounted rate of $97. Many would pay $500 or more for a 1-day workshop of this caliber! <o:p></o:p></font></span></span></p>\n<p class="MsoNormal" style="margin: 0in 0in 0pt 0.5in">\n	<span class="share-body"><span style="color: #1f497d"><o:p><font size="3">&nbsp\;</font></o:p></span></span></p>\n<p class="MsoNormal" style="margin: 0in 0in 0pt 0.5in">\n	<span style="color: #1f497d"><font size="3">Register now at </font><a href="http://www.thepassiveincomeworkshop.com/"><span style="color: #1f497d\; font-size: 10pt">http://www.thepassiveincomeworkshop.com/</span></a></span><span style="color: #1f497d\; font-size: 10pt">.</span></p>\n
LOCATION:The Lafayette Hotel 2223 El Cajon Blvd San Diego\, CA 92104
UID:e.784.2683
SEQUENCE:3
DTSTAMP:20260422T075506Z
URL:https://chamber.sdbusinesschamber.com/events/details/the-passive-income-workshop-10-27-2012-2683
END:VEVENT

END:VCALENDAR
