BEGIN:VCALENDAR
VERSION:2.0
PRODID:-//ChamberMaster//Event Calendar 2.0//EN
METHOD:PUBLISH
X-PUBLISHED-TTL:P3D
REFRESH-INTERVAL:P3D
CALSCALE:GREGORIAN
BEGIN:VEVENT
DTSTART:20130424T000000Z
DTEND:20130424T033000Z
X-MICROSOFT-CDO-ALLDAYEVENT:FALSE
SUMMARY:The Human Capital Factor - Community Event
DESCRIPTION:The San Diego North Chamber of Commerce has partnered with the Institute for a Competitive Workforce to host an event to discuss timely education and workforce topics and explore how we as a community of academics\, educators\, business leaders and parents can work together to create and compete for the high-quality jobs of today\, and the careers of tomorrow. This event will provide an interactive forum for business\, community\, and education leaders to discuss local workforce and education challenges and offer strategies to implement positive change. \n\n		\n\n		The event will take place in two segments. The first segment is the Business Forum which will consists of a series of distinguished speakers\, two moderated panel discussions addressing timely workforce/education topics\, and break-out sessions. The second segment is a Community Event which will include an exhibitor fair showcasing various workforce and education opportunities and resources in San Diego County\, a private screening of the movie "Won't Back Down\," and a panel of local leaders from the business and education community. \n	\n		JOBS 2013 :: WORKFORCE 2020\n	\n\n	\n\n	Click here to view the event agenda
X-ALT-DESC;FMTTYPE=text/html:<div style="text-align: center\;">\n	<div style="text-align: left\;">\n		The San Diego North Chamber of Commerce has partnered with the Institute for a Competitive Workforce to host an event to discuss timely education and workforce topics and explore how we as a community of academics\, educators\, business leaders and parents can work together to create and compete for the high-quality jobs of today\, and the careers of tomorrow. This event will provide an interactive forum for business\, community\, and education leaders to discuss local workforce and education challenges and offer strategies to implement positive change.&nbsp\;<br />\n		<br />\n		The event will take place in two segments. The first segment is the Business Forum which will consists of a series of distinguished speakers\, two moderated panel discussions addressing timely workforce/education topics\, and break-out sessions. The second segment is a Community Event which will include an exhibitor fair showcasing various workforce and education opportunities and resources in San Diego County\, a private screening of the movie &quot\;Won&#39\;t Back Down\,&quot\; and a panel of local leaders from the business and education community.&nbsp\;</div>\n	<div>\n		<strong><span style="font-family:arial\,sans-serif\;">JOBS 2013 :: WORKFORCE 2020</span></strong></div>\n	<br />\n	<br />\n	<a href="http://www.sdncc.com/HCF/AgendaEBlast.pdf"><span style="font-size:16px\;"><strong>Click here to view the event agenda</strong></span></a></div>\n<div>\n	&nbsp\;</div>\n<div>\n	<br />\n	<br />\n	&nbsp\;</div>\n
LOCATION:Rancho Bernardo Inn 17550 Bernardo Oaks Drive San Diego CA 92128
UID:e.784.2872
SEQUENCE:3
DTSTAMP:20260422T001205Z
URL:https://chamber.sdbusinesschamber.com/events/details/the-human-capital-factor-community-event-04-23-2013-2872
END:VEVENT

END:VCALENDAR
