BEGIN:VCALENDAR
VERSION:2.0
PRODID:-//ChamberMaster//Event Calendar 2.0//EN
METHOD:PUBLISH
X-PUBLISHED-TTL:P3D
REFRESH-INTERVAL:P3D
CALSCALE:GREGORIAN
BEGIN:VEVENT
DTSTART:20130810T170000Z
DTEND:20130812T010000Z
X-MICROSOFT-CDO-ALLDAYEVENT:FALSE
SUMMARY:The Green Build. The Grand Tour
DESCRIPTION:Please sign up at www.san.org/celebrate\n\n				\n\n				The Green Build. A New Destination. \n\n				\n\n				The Grand Tour is the public open house celebrating the completion of the Green Build Terminal 2 Expansion at San Diego International Airport. The weekend-long community event is hosted by San Diego International Airport\, Turner PCL Flatiron\, Kiewit/Sundt\, URS\, and HNTB with Tucker Sadler Associates.\n\n				\n\n				The Green Build is the largest construction project in airport history and includes:\n\n				\n\n				- 10 new gates\n\n				\n\n				- Dual level roadway separating arriving and departing traffic. Depart above. Arrive below.\n\n				\n\n				- New check-in pavilions under the Sky Sails on the Elevated Departure Roadway\n\n				\n\n				- All new shopping and dining\n\n				\n\n				- Sunset Cove - the architectural showpiece is the heart of the Terminal Expansion\, and hosts a range of dining options with spectacular panoramic views of the airfield.\n\n				\n\n				- New public art outside and inside\n\n				\n\n				- Expanded security check point\n\n				\n\n				- New ticket lobby\n\n				\n\n				- New baggage claim area\n\n				\n\n				\n\n				PARKING\n\n				\n\n				Park in Terminal 2 Lot\, using entrance off of McCain Road ONLY. Parking will be validated. Complimentary shuttles will be provided from this lot to the terminal entrance.\n\n				\n\n				\n\n				Come tour YOUR newly expanded San Diego International Airport. The Grand Tour. August 10th and 11th from 10am to 6pm
X-ALT-DESC;FMTTYPE=text/html:<div class="eventContentDetails">\n	<div id="ctl00_cphEventWebsite_ctl00_cphEventWebsite_efDetailsPanel">\n		<div id="ctl00_cphEventWebsite_efDetails" isvisible="True">\n			<div id="ctl00_cphEventWebsite_pnlDetails">\n				<span class="eventName"><span id="ctl00_cphEventWebsite_lblEventTitle">Please sign up at <a href="http://www.san.org/celebrate">www.san.org/celebrate</a><br />\n				<br />\n				The Green Build. A New Destination.</span> </span><br />\n				<br />\n				<span id="ctl00_cphEventWebsite_lblSummary">The Grand Tour is the public open house celebrating the completion of the Green Build Terminal 2 Expansion at San Diego International Airport. The weekend-long community event is hosted by San Diego International Airport\, Turner PCL Flatiron\, Kiewit/Sundt\, URS\, and HNTB with Tucker Sadler Associates.<br />\n				<br />\n				The Green Build is the largest construction project in airport history and includes:<br />\n				<br />\n				- 10 new gates<br />\n				<br />\n				- Dual level roadway separating arriving and departing traffic. Depart above. Arrive below.<br />\n				<br />\n				- New check-in pavilions under the Sky Sails on the Elevated Departure Roadway<br />\n				<br />\n				- All new shopping and dining<br />\n				<br />\n				- Sunset Cove - the architectural showpiece is the heart of the Terminal Expansion\, and hosts a range of dining options with spectacular panoramic views of the airfield.<br />\n				<br />\n				- New public art outside and inside<br />\n				<br />\n				- Expanded security check point<br />\n				<br />\n				- New ticket lobby<br />\n				<br />\n				- New baggage claim area<br />\n				<br />\n				<br />\n				<strong>PARKING</strong><br />\n				<br />\n				Park in Terminal 2 Lot\, using entrance off of McCain Road ONLY. Parking will be validated. Complimentary shuttles will be provided from this lot to the terminal entrance.<br />\n				<br />\n				<br />\n				Come tour YOUR newly expanded San Diego International Airport. The Grand Tour. August 10th and 11th from 10am to 6pm </span><br />\n				<br />\n				&nbsp\;</div>\n		</div>\n	</div>\n</div>\n
LOCATION:San Diego International Airport\, Terminal 2 3225 N. Harbor Drive San Diego\, CA 92101
UID:e.784.2928
SEQUENCE:3
DTSTAMP:20260421T174339Z
URL:https://chamber.sdbusinesschamber.com/events/details/the-green-build-the-grand-tour-08-10-2013-2928
END:VEVENT

END:VCALENDAR
