BEGIN:VCALENDAR
VERSION:2.0
PRODID:-//ChamberMaster//Event Calendar 2.0//EN
METHOD:PUBLISH
X-PUBLISHED-TTL:P3D
REFRESH-INTERVAL:P3D
CALSCALE:GREGORIAN
BEGIN:VEVENT
DTSTART:20201207T210000Z
DTEND:20201208T220000Z
X-MICROSOFT-CDO-ALLDAYEVENT:FALSE
SUMMARY:The business owner's playbook
DESCRIPTION:Considering the future of a large company such as yours calls for finesse and innovation. There's a lot at stake. This exclusive two-part livestream gives you the playbook from all sides of the transaction. Join us for conversations with UBS experts\, investors and entrepreneurs behind some of 2020's highest profile deals.
X-ALT-DESC;FMTTYPE=text/html:<span style="color:#505050"><span style="font-family:arial\,sans-serif"><span style="font-size:10.5pt">Considering the future of a large company such as yours calls for finesse and innovation. There&rsquo\;s a lot at stake. This exclusive two-part livestream gives you the playbook from all sides of the transaction. Join us for conversations with UBS experts\, investors and entrepreneurs behind some of 2020&rsquo\;s highest profile deals. </span></span></span>
LOCATION:https://web.cvent.com/survey/e219b7e1-ceed-4c1e-86ae-a9e24a8251de/questions
UID:e.784.26938
SEQUENCE:3
DTSTAMP:20260425T170438Z
URL:https://chamber.sdbusinesschamber.com/events/details/the-business-owner-s-playbook-26938
END:VEVENT

END:VCALENDAR
