BEGIN:VCALENDAR
VERSION:2.0
PRODID:-//ChamberMaster//Event Calendar 2.0//EN
METHOD:PUBLISH
X-PUBLISHED-TTL:P3D
REFRESH-INTERVAL:P3D
CALSCALE:GREGORIAN
BEGIN:VEVENT
DTSTART:20100922T143000Z
DTEND:20100922T160000Z
X-MICROSOFT-CDO-ALLDAYEVENT:FALSE
SUMMARY:The Business Forum
DESCRIPTION:The 10 Biggest Mistakes Entrepreneurs and Small Business Owners Make and How to Turn Them Into Opportunities\n\n	Presented by Richard Barron\n\n	 \n\n	About the Speaker\n\n	Richard Barron is a partner with his wife Janathan Allen in consulting firm\, Allen Barron Inc. They provide finance\, legal\, accounting\, tax and operations services to businesses of all size.\n\n	 \n\n	Richard was born in London England and immigrated to Canada in 1966. In the UK he worked for the Science Research Council and while in Canada\, worked for Bell Northern Research.\n\n	 \n\n	In 1978 Richard joined Nortel Networks and was responsible for startup manufacturing operations. After a successful career at Nortel\, Richard became held many leadership roles at companies such as Atlantic Research in Washington DC\, and several publicly traded companies in the US.\n\n	 \n\n	Richard and his wife started their own firm in 1998 and have grown the business since then to represent clients World Wide.
X-ALT-DESC;FMTTYPE=text/html:<h1>\n	<strong>The 10 Biggest Mistakes Entrepreneurs and Small Business Owners Make and How to Turn Them Into Opportunities</strong></h1>\n<p>\n	<strong>Presented by Richard Barron</strong><br />\n	&nbsp\;</p>\n<h3>\n	About the Speaker</h3>\n<div>\n	<span style="font-family: calibri\,sans-serif\;"><span style="font-size: 11pt\;">Richard Barron is a partner with his wife Janathan Allen in consulting firm\, Allen Barron Inc. They provide finance\, legal\, accounting\, tax and operations services to businesses of all size.</span></span><br />\n	&nbsp\;<br />\n	<span style="font-family: calibri\,sans-serif\;"><span style="font-size: 11pt\;">Richard was born in London England and immigrated to Canada in 1966. In the UK he worked for the Science Research Council and while in Canada\, worked for Bell Northern Research.</span></span><br />\n	&nbsp\;<br />\n	<span style="font-family: calibri\,sans-serif\;"><span style="font-size: 11pt\;">In 1978 Richard joined Nortel Networks and was responsible for startup manufacturing operations. After a successful career at Nortel\, Richard became held many leadership roles at companies such as Atlantic Research in Washington DC\, and several publicly traded companies in the US.</span></span><br />\n	&nbsp\;<br />\n	<span style="font-family: calibri\,sans-serif\;"><span style="font-size: 11pt\;">Richard and his wife started their own firm in 1998 and have grown the business since then to represent clients World Wide. </span></span></div>\n
LOCATION:Courtyard by Marriott - Rancho Bernardo11611 Bernardo Plaza CourtSan Diego CA 92128
UID:e.784.1799
SEQUENCE:3
DTSTAMP:20260423T195452Z
URL:https://chamber.sdbusinesschamber.com/events/details/the-business-forum-09-22-2010-1799
END:VEVENT

END:VCALENDAR
