BEGIN:VCALENDAR
VERSION:2.0
PRODID:-//ChamberMaster//Event Calendar 2.0//EN
METHOD:PUBLISH
X-PUBLISHED-TTL:P3D
REFRESH-INTERVAL:P3D
CALSCALE:GREGORIAN
BEGIN:VEVENT
DTSTART:20100825T143000Z
DTEND:20100825T160000Z
X-MICROSOFT-CDO-ALLDAYEVENT:FALSE
SUMMARY:The Business Forum
DESCRIPTION:The 7 Best FREE Internet Marketing and Social Media Strategies to Drive More Traffic\, Generate More Leads and Increase Sales\n\n    Easy ways to optimize your website to make it easier to be found by Google\n    Why you should be using social media websites like Facebook\, Linkedin\, Twitter and YouTube\n    The importance of Blogs\, e-mail marketing and link building\n    How to automate and systemize your lead generation and follow up marketing efforts\n\nAll attendees will get a free downloadable copy of "The Ultimate Guide to Mastering Linkedin" - a $17 Value\nAbout the Speaker\nDavid Carleton is a Local Business Marketing Expert who specializes in showing small business owners how to spend less and get more from their marketing and advertising using low cost strategies in local business marketing\, lead generation and conversion\, Internet marketing and social media.  http://www.LocalBusinessMarketingSuccess.com
X-ALT-DESC;FMTTYPE=text/html:<h1 style="text-align: center\;"><strong>The 7 Best FREE Internet Marketing and Social Media Strategies to Drive More Traffic\, Generate More Leads and Increase Sales</strong></h1>\n<ul>\n    <li>Easy ways to optimize your website to make it easier to be found by Google</li>\n    <li>Why you should be using social media websites like Facebook\, Linkedin\, Twitter and YouTube</li>\n    <li>The importance of Blogs\, e-mail marketing and link building</li>\n    <li>How to automate and systemize your lead generation and follow up marketing efforts</li>\n</ul>\n<p>All attendees will get a free downloadable copy of &quot\;The Ultimate Guide to Mastering Linkedin&quot\; - a $17 Value</p>\n<h2><strong>About the Speaker</strong></h2>\n<p>David Carleton is a Local Business Marketing Expert who specializes in showing small business owners how to spend less and get more from their marketing and advertising using low cost strategies in local business marketing\, lead generation and conversion\, Internet marketing and social media.&nbsp\; <a href="http://www.LocalBusinessMarketingSuccess.com">http://www.LocalBusinessMarketingSuccess.com</a><br />\n&nbsp\;<br />\n&nbsp\;</p>\n<div>&nbsp\;</div>
LOCATION:Courtyard by Marriott - Rancho Bernardo11611 Bernardo Plaza CourtSan Diego CA 92128
UID:e.784.1786
SEQUENCE:3
DTSTAMP:20260423T212349Z
URL:https://chamber.sdbusinesschamber.com/events/details/the-business-forum-08-25-2010-1786
END:VEVENT

END:VCALENDAR
