BEGIN:VCALENDAR
VERSION:2.0
PRODID:-//ChamberMaster//Event Calendar 2.0//EN
METHOD:PUBLISH
X-PUBLISHED-TTL:P3D
REFRESH-INTERVAL:P3D
CALSCALE:GREGORIAN
BEGIN:VEVENT
DTSTART:20120827T013000Z
DTEND:20120827T040000Z
X-MICROSOFT-CDO-ALLDAYEVENT:FALSE
SUMMARY:The Big Band Jazz Machine LIVE at Bernardo Winery
DESCRIPTION:Enjoy the Big Band Sounds of San Diego's own Big Band Bazz Machine Directed by Ira B Liss with special guest Eric Marienthal!  August 26th at 6:30 pm at the 120 year old Bernardo Winery. Open seating\, seating on a first come first serve basis. $20 cover charge\, $10 for students with ID. Free parking.\n\n	Food and beverages available onsite\, no outside food and beverages. Winery tasting room and village shops will be open for the duration of the concert. for more information please visit www.bernardowinery.com or call 858.487.1866
X-ALT-DESC;FMTTYPE=text/html:<p>\n	<span style="font-size: 16px"><span style="font-family: verdana">Enjoy the Big Band Sounds of San Diego&#39\;s own Big Band Bazz Machine Directed by Ira B Liss with special guest Eric Marienthal! &nbsp\;August 26th at 6:30 pm at the 120 year old Bernardo Winery. Open seating\, seating on a first come first serve basis. $20 cover charge\, $10 for students with ID. Free parking.<br />\n	Food and beverages available onsite\, no outside food and beverages. Winery tasting room and village shops will be open for the duration of the concert. for more information please visit <a href="http://www.bernardowinery.com">www.bernardowinery.com</a> or call 858.487.1866</span></span></p>\n
LOCATION:Bernardo Winery
UID:e.784.2671
SEQUENCE:3
DTSTAMP:20260422T110608Z
URL:https://chamber.sdbusinesschamber.com/events/details/the-big-band-jazz-machine-live-at-bernardo-winery-08-26-2012-2671
END:VEVENT

END:VCALENDAR
