BEGIN:VCALENDAR
VERSION:2.0
PRODID:-//ChamberMaster//Event Calendar 2.0//EN
METHOD:PUBLISH
X-PUBLISHED-TTL:P3D
REFRESH-INTERVAL:P3D
CALSCALE:GREGORIAN
BEGIN:VEVENT
DTSTART:20100308T080000Z
DTEND:20100308T080000Z
X-MICROSOFT-CDO-ALLDAYEVENT:FALSE
SUMMARY:TechAdvantage Business Workshop - How to Get on Page One of
DESCRIPTION:
X-ALT-DESC;FMTTYPE=text/html:
LOCATION:Courtyard by Marriott San Diego/Rancho Bernardo
UID:e.784.986
SEQUENCE:3
DTSTAMP:20260424T054355Z
URL:https://chamber.sdbusinesschamber.com/events/details/techadvantage-business-workshop-how-to-get-on-page-one-of-03-08-2010-986
END:VEVENT

END:VCALENDAR
