BEGIN:VCALENDAR
VERSION:2.0
PRODID:-//ChamberMaster//Event Calendar 2.0//EN
METHOD:PUBLISH
X-PUBLISHED-TTL:P3D
REFRESH-INTERVAL:P3D
CALSCALE:GREGORIAN
BEGIN:VEVENT
DTSTART:20091120T080000Z
DTEND:20091120T080000Z
X-MICROSOFT-CDO-ALLDAYEVENT:FALSE
SUMMARY:TCIC Promotions Meeting
DESCRIPTION:
X-ALT-DESC;FMTTYPE=text/html:
LOCATION:
UID:e.784.971
SEQUENCE:3
DTSTAMP:20260424T103024Z
URL:https://chamber.sdbusinesschamber.com/events/details/tcic-promotions-meeting-11-20-2009-971
END:VEVENT

END:VCALENDAR
