BEGIN:VCALENDAR
VERSION:2.0
PRODID:-//ChamberMaster//Event Calendar 2.0//EN
METHOD:PUBLISH
X-PUBLISHED-TTL:P3D
REFRESH-INTERVAL:P3D
CALSCALE:GREGORIAN
BEGIN:VEVENT
DTSTART:20190920T013000Z
DTEND:20190920T030000Z
X-MICROSOFT-CDO-ALLDAYEVENT:FALSE
SUMMARY:Summer Chef Series at Veranda Fireside Lounge & Restaurant - Al fresco dining from around the world - “Grilling Under the Stars”
DESCRIPTION:Join us at Veranda for - Grilling Under the Stars!\n\nSpend an evening under the stars this summer with dining events inspired by flavors from around the world\, featuring specialty dishes crafted by Chef Ken Rollins.\n\nBuena Vista Terrace | 6:30 pm \n\n$60 per person** | Optional beverage pairing $25 per person*\n\n*Exclusive of taxes and service charge.\n\n**Exclusive of taxes\, service charge\, and alcohol.\n\nPlease contact Taco Luiten\n\n844.338.9275 or tluiten@jcresorts.com
X-ALT-DESC;FMTTYPE=text/html:<p><span style="font-size:small">Join us at Veranda for - Grilling Under the Stars!</span></p>\n\n<p><span style="font-size:small">Spend an evening under the stars this summer with dining events inspired by flavors from around the world\, featuring specialty dishes crafted by Chef Ken Rollins.</span></p>\n\n<p><span style="font-size:small">Buena Vista Terrace | 6:30 pm&nbsp\;</span><br />\n<span style="font-size:small">$60 per person** | Optional beverage pairing $25 per person*</span></p>\n\n<p><span style="font-size:small">*Exclusive of taxes and service charge.</span><br />\n<span style="font-size:small">**Exclusive of taxes\, service charge\, and alcohol.</span></p>\n\n<p><span style="font-size:small">Please contact&nbsp\;<strong>Taco Luiten</strong></span><br />\n<span style="font-size:small"><strong>844.338.9275</strong>&nbsp\;or&nbsp\;<strong>tluiten@jcresorts.com</strong></span></p>\n
LOCATION:Veranda Fireside Lounge & Restaurant | 17550 Bernardo Oaks Dr.\, San Diego\, CA 92128
UID:e.784.22753
SEQUENCE:3
DTSTAMP:20260421T113846Z
URL:https://chamber.sdbusinesschamber.com/events/details/summer-chef-series-at-veranda-fireside-lounge-restaurant-al-fresco-dining-from-around-the-world-grilling-under-the-stars-22753
END:VEVENT

END:VCALENDAR
