BEGIN:VCALENDAR
VERSION:2.0
PRODID:-//ChamberMaster//Event Calendar 2.0//EN
METHOD:PUBLISH
X-PUBLISHED-TTL:P3D
REFRESH-INTERVAL:P3D
CALSCALE:GREGORIAN
BEGIN:VEVENT
DTSTART:20191102T160000Z
DTEND:20191102T230000Z
X-MICROSOFT-CDO-ALLDAYEVENT:FALSE
SUMMARY:Successful Aging Expo with NYT Bestselling Authors Patricia Schultz and Dr. Edith Eger
DESCRIPTION:Adventures by the Book is thrilled to participate in this year's wildly popular Successful Aging Expo\, sponsored by the San Diego Union Tribune. Enjoy a full day of engagement at the San Diego Convention Center with thousands of adults and vendors to learn more about health & wellness\, financial planning\, Medicare\, travel\, home improvement\, assisted living\, and more!\n\nDo your successful aging plans include traveling the world to see tributaries of mist curling over the Great Wall\, elephants grazing on the floor of the Ngorongoro Crater\, the sun setting on the wild coast of Donegal\, or masked whirling dancers at a festival in Bhutan?\n\nIf so\, then you won't want to miss this special opportunity to meet Patricia Schultz\, the New York Times bestselling author who was named as one of Forbe's 20 Most Influential Women in Travel Today. Learn about some of Patricia's favorite breathtaking destinations as she presents a slide show of her actual travels\, just in time for the release of her stunning new commemorative edition of 1\,000 Places to See Before You Die: Deluxe Edition.\n\n\n\nYou will also have the rare opportunity to meet internationally acclaimed psychologist Dr. Edith Eger\, one of the last remaining Holocaust survivors. Hear her unforgettable story\, shared in her moving and unforgettable NYT bestselling memoir\, The Choice\, and experience this moving testament to the resilience of the human spirit and the power of choice in our lives.
X-ALT-DESC;FMTTYPE=text/html:<p>Adventures by the Book is thrilled to participate in this year&rsquo\;s wildly popular&nbsp\;<strong><a href="https://www.sandiegouniontribune.com/successful-aging-sd" style="box-sizing: border-box\; margin: 0px\; padding: 0px\; border: 0px\; outline: 0px\; background: 0px 0px\; vertical-align: baseline\; text-size-adjust: 100%\; color: rgb(46\, 163\, 242)\; text-decoration-line: none\;">Successful Aging Expo</a>\,&nbsp\;</strong>sponsored by the San Diego Union Tribune<strong>.</strong>&nbsp\;Enjoy a full day of engagement at the San Diego Convention Center with thousands of adults and vendors to learn more about health &amp\; wellness\, financial planning\, Medicare\, travel\, home improvement\, assisted living\, and more!</p>\n\n<p>Do your successful aging plans include traveling the world to see tributaries of mist curling over the Great Wall\, elephants grazing on the floor of the Ngorongoro Crater\, the sun setting on the wild coast of Donegal\, or masked whirling dancers at a festival in Bhutan?</p>\n\n<p>If so\, then you won&rsquo\;t want to miss this special opportunity to meet&nbsp\;<strong>Patricia Schultz\,</strong>&nbsp\;the&nbsp\;<em>New York Times</em>&nbsp\;bestselling author who was named as one of Forbe&rsquo\;s 20 Most Influential Women in Travel Today. Learn about some of Patricia&rsquo\;s favorite breathtaking destinations as she presents a slide show of her actual travels\, just in time for the release of her stunning new commemorative edition of&nbsp\;1\,000 Places to See Before You Die: Deluxe Edition.<br />\n<br />\nYou will also have the rare opportunity to meet internationally acclaimed psychologist <strong>Dr. Edith Eger</strong>\, one of the last remaining Holocaust survivors. Hear her unforgettable story\, shared in her moving and unforgettable NYT bestselling memoir\, <em>The Choice</em>\, and experience this moving testament to the resilience of the human spirit and the power of choice in our lives.&nbsp\;</p>\n
LOCATION:San Diego Convention Center
UID:e.784.22925
SEQUENCE:3
DTSTAMP:20260421T082731Z
URL:https://chamber.sdbusinesschamber.com/events/details/successful-aging-expo-22925
END:VEVENT

END:VCALENDAR
