BEGIN:VCALENDAR
VERSION:2.0
PRODID:-//ChamberMaster//Event Calendar 2.0//EN
METHOD:PUBLISH
X-PUBLISHED-TTL:P3D
REFRESH-INTERVAL:P3D
CALSCALE:GREGORIAN
BEGIN:VEVENT
DTSTART:20110108T230000Z
DTEND:20110109T003000Z
X-MICROSOFT-CDO-ALLDAYEVENT:FALSE
SUMMARY:Student Chamber Mixer
DESCRIPTION:Gather with your fellow Student Chamber members for a fun afternoon filled with meeting new friends\, good food and inspiring speakers at El Torito\, Saturday\, January 8th.\n\n	\n\n	Don't miss this opportunity to connect  with fellow members from different San Diego High Schools and make future internship connections. \n\n	\n\n	For more information or to RSVP please contact the Chamber at 858-487-1767 or email Jennifer at Jennifer@sdncc.com
X-ALT-DESC;FMTTYPE=text/html:<div>\n	<span style="font-size: 11pt\;">Gather with your fellow Student Chamber members for a fun afternoon filled with meeting new friends\, good food and inspiring speakers at El Torito\, Saturday\, January 8th.<br />\n	<br />\n	Don&#39\;t miss this opportunity to connect&nbsp\; with fellow members from different San Diego High Schools and make future internship connections.</span><b> </b><br />\n	<br />\n	<span style="font-size: 11pt\;">For more information or to RSVP please contact the Chamber at 858-487-1767 or email Jennifer at <a href="mailto:Jennifer@sdncc.com" shape="rect" style="" target="_blank">Jennifer@sdncc.com</a></span></div>\n
LOCATION:El Torito - Rancho Bernardo 16375 Bernardo Center Drive San Diego\, CA 92128
UID:e.784.2226
SEQUENCE:3
DTSTAMP:20260423T141527Z
URL:https://chamber.sdbusinesschamber.com/events/details/student-chamber-mixer-01-08-2011-2226
END:VEVENT

END:VCALENDAR
