BEGIN:VCALENDAR
VERSION:2.0
PRODID:-//ChamberMaster//Event Calendar 2.0//EN
METHOD:PUBLISH
X-PUBLISHED-TTL:P3D
REFRESH-INTERVAL:P3D
CALSCALE:GREGORIAN
BEGIN:VEVENT
DTSTART:20130314T170000Z
DTEND:20130314T200000Z
X-MICROSOFT-CDO-ALLDAYEVENT:FALSE
SUMMARY:State of the North County Address
DESCRIPTION:Hosted by Supervisor Bill Horn
X-ALT-DESC;FMTTYPE=text/html:Hosted by Supervisor Bill Horn
LOCATION:McClellan Palomar Airport- Premier Jet Hanger 2100 Palomar Airport Rd Carlsbad\, Ca 92011
UID:e.784.2842
SEQUENCE:3
DTSTAMP:20260422T002711Z
URL:https://chamber.sdbusinesschamber.com/events/details/state-of-the-north-county-address-03-14-2013-2842
END:VEVENT

END:VCALENDAR
