BEGIN:VCALENDAR
VERSION:2.0
PRODID:-//ChamberMaster//Event Calendar 2.0//EN
METHOD:PUBLISH
X-PUBLISHED-TTL:P3D
REFRESH-INTERVAL:P3D
CALSCALE:GREGORIAN
BEGIN:VEVENT
DTSTART:20130110T000000Z
DTEND:20130110T020000Z
X-MICROSOFT-CDO-ALLDAYEVENT:FALSE
SUMMARY:Spring Semester Choir Auditions
DESCRIPTION:San Diego Children's Choir is looking for children who love to sing\, achieve artistic excellence\, learn the value of cooperative teamwork\, commitment to personal goals and service to the community. Call 858 5871087 or visit www.sdcchoir.org for more information.
X-ALT-DESC;FMTTYPE=text/html:San Diego Children&rsquo\;s Choir is looking for children who love to sing\, achieve artistic excellence\, learn the value of cooperative teamwork\, commitment to personal goals and service to the community. Call 858 5871087 or visit www.sdcchoir.org for more information.
LOCATION:6635 Flanders Drive\, Suite H\, San Diego\, California 92121
UID:e.784.2805
SEQUENCE:3
DTSTAMP:20260422T031641Z
URL:https://chamber.sdbusinesschamber.com/events/details/spring-semester-choir-auditions-01-09-2013-2805
END:VEVENT

END:VCALENDAR
