BEGIN:VCALENDAR
VERSION:2.0
PRODID:-//ChamberMaster//Event Calendar 2.0//EN
METHOD:PUBLISH
X-PUBLISHED-TTL:P3D
REFRESH-INTERVAL:P3D
CALSCALE:GREGORIAN
BEGIN:VEVENT
DTSTART:20120224T170000Z
DTEND:20120224T200000Z
X-MICROSOFT-CDO-ALLDAYEVENT:FALSE
SUMMARY:Spring Job Fair
DESCRIPTION:Hosted by: Congressman Duncan Hunter\n\n\n\nTo pre-register as an employer or for more information\, contact Congressman Hunter's office at: (619) 448-5201\, andrea.jones@mail.house.gov
X-ALT-DESC;FMTTYPE=text/html:Hosted by: Congressman Duncan Hunter<br />\n<br />\nTo pre-register as an employer or for more information\, contact Congressman Hunter&#39\;s office at: (619) 448-5201\, andrea.jones@mail.house.gov
LOCATION:Poway Community Center 13094 Civic Center Dr Poway CA 92064
UID:e.784.2606
SEQUENCE:3
DTSTAMP:20260422T202324Z
URL:https://chamber.sdbusinesschamber.com/events/details/spring-job-fair-02-24-2012-2606
END:VEVENT

END:VCALENDAR
