BEGIN:VCALENDAR
VERSION:2.0
PRODID:-//ChamberMaster//Event Calendar 2.0//EN
METHOD:PUBLISH
X-PUBLISHED-TTL:P3D
REFRESH-INTERVAL:P3D
CALSCALE:GREGORIAN
BEGIN:VEVENT
DTSTART:20100120T080000Z
DTEND:20100120T080000Z
X-MICROSOFT-CDO-ALLDAYEVENT:FALSE
SUMMARY:Special Speaker Tony Gwynn
DESCRIPTION:
X-ALT-DESC;FMTTYPE=text/html:
LOCATION:Hilton Garden Inn-San Diego/Rancho Bernardo
UID:e.784.976
SEQUENCE:3
DTSTAMP:20260424T072334Z
URL:https://chamber.sdbusinesschamber.com/events/details/special-speaker-tony-gwynn-01-20-2010-976
END:VEVENT

END:VCALENDAR
