BEGIN:VCALENDAR
VERSION:2.0
PRODID:-//ChamberMaster//Event Calendar 2.0//EN
METHOD:PUBLISH
X-PUBLISHED-TTL:P3D
REFRESH-INTERVAL:P3D
CALSCALE:GREGORIAN
BEGIN:VEVENT
DTSTART:20100217T080000Z
DTEND:20100217T080000Z
X-MICROSOFT-CDO-ALLDAYEVENT:FALSE
SUMMARY:Special Speaker Dr. Anthony F. Smith
DESCRIPTION:
X-ALT-DESC;FMTTYPE=text/html:
LOCATION:Carmel Mountain Ranch Country Club
UID:e.784.984
SEQUENCE:3
DTSTAMP:20260424T054247Z
URL:https://chamber.sdbusinesschamber.com/events/details/special-speaker-dr-anthony-f-smith-02-17-2010-984
END:VEVENT

END:VCALENDAR
