BEGIN:VCALENDAR
VERSION:2.0
PRODID:-//ChamberMaster//Event Calendar 2.0//EN
METHOD:PUBLISH
X-PUBLISHED-TTL:P3D
REFRESH-INTERVAL:P3D
CALSCALE:GREGORIAN
BEGIN:VEVENT
DTSTART;VALUE=DATE:20130430
DTEND;VALUE=DATE:20130501
TRANSP:TRANSPARENT
X-MICROSOFT-CDO-ALLDAYEVENT:TRUE
SUMMARY:Small Business Owners Seminar and Social
DESCRIPTION:Are you a small business owner who would like free legal and tax advice? \n\n\n\nGuest speakers Dave Cohen and Nick Gillaspey will tell you everything you need to know. \n\n\n\nPlease join us April 30\, 2013 5:00pm-7:00pm \n\n\n\nRSVP by April 25th\n\n858-935-6002
X-ALT-DESC;FMTTYPE=text/html:<span style="font-size: 18px\;"><span style="font-size: 20px\;"><strong>Are you a small business owner who would like free legal and tax advice? </strong></span><br />\n<br />\nGuest speakers Dave Cohen and Nick Gillaspey will tell you everything you need to know. </span><br />\n<br />\n<u><strong><span style="font-size: 18px\;">Please join us April 30\, 2013 5:00pm-7:00pm </span></strong></u><br />\n<br />\n<strong><span style="font-size: 14px\;">RSVP by April 25th<br />\n858-935-6002</span></strong>
LOCATION:10620 Treena Street Suite 230\, San Diego\, CA 92131
UID:e.784.2875
SEQUENCE:3
DTSTAMP:20260422T000615Z
URL:https://chamber.sdbusinesschamber.com/events/details/small-business-owners-seminar-and-social-04-30-2013-2875
END:VEVENT

END:VCALENDAR
