BEGIN:VCALENDAR
VERSION:2.0
PRODID:-//ChamberMaster//Event Calendar 2.0//EN
METHOD:PUBLISH
X-PUBLISHED-TTL:P3D
REFRESH-INTERVAL:P3D
CALSCALE:GREGORIAN
BEGIN:VEVENT
DTSTART:20130306T163000Z
DTEND:20130306T190000Z
X-MICROSOFT-CDO-ALLDAYEVENT:FALSE
SUMMARY:Small Business Opportunity Awareness
DESCRIPTION:The San Diego County Regional Airport Authority is starting a series of major improvements on the North Side of San Diego International Airport. More than $300 million in contract opportunities will soon be available!
X-ALT-DESC;FMTTYPE=text/html:The San Diego County Regional Airport Authority is starting a series of major improvements on the North Side of San Diego International Airport. More than $300 million in contract opportunities will soon be available!
LOCATION:Sheraton Carlsbad Resort & Spa 5840 Grand Pacific Drive Carlsbad\, CA 92008
UID:e.784.2841
SEQUENCE:3
DTSTAMP:20260422T001747Z
URL:https://chamber.sdbusinesschamber.com/events/details/small-business-opportunity-awareness-03-06-2013-2841
END:VEVENT

END:VCALENDAR
