BEGIN:VCALENDAR
VERSION:2.0
PRODID:-//ChamberMaster//Event Calendar 2.0//EN
METHOD:PUBLISH
X-PUBLISHED-TTL:P3D
REFRESH-INTERVAL:P3D
CALSCALE:GREGORIAN
BEGIN:VEVENT
DTSTART:20201108T230000Z
DTEND:20201109T010000Z
X-MICROSOFT-CDO-ALLDAYEVENT:FALSE
SUMMARY:Sip & Soap: Soap Making Class at Koi Zen Cellars
DESCRIPTION:Sarah's Soaps hands-on class to make cold-pressed soap using healthy\, natural\, healing ingredients. This fun hands-on class includes a bar of soap & recipe to make more at home. \n\nMakes a great gift!\n\nClass $40.\n\nWine available for purchase.
X-ALT-DESC;FMTTYPE=text/html:Sarah&#39\;s Soaps hands-on class to make cold-pressed soap using healthy\, natural\, healing ingredients. This fun hands-on class includes a bar of soap &amp\; recipe to make more at home.&nbsp\;<br />\nMakes a great gift!<br />\nClass $40.<br />\nWine available for purchase.<br />\n<br />\n<br />\n&nbsp\;
LOCATION:Koi Zen Cellars 12225 World Trade Dr. Suite P San Diego CA 92128
UID:e.784.26532
SEQUENCE:3
DTSTAMP:20260425T182253Z
URL:https://chamber.sdbusinesschamber.com/events/details/sip-soap-soap-making-class-at-koi-zen-cellars-26532
END:VEVENT

END:VCALENDAR
